BEGIN:VCALENDAR
VERSION:2.0
PRODID:-//wp-events-plugin.com//6.6.4.4//EN
TZID:Europe/London
X-WR-TIMEZONE:Europe/London
BEGIN:VEVENT
UID:0-270@lvo.org.uk
DTSTART;TZID=Europe/London:20191206T173000
DTEND;TZID=Europe/London:20191206T193000
DTSTAMP:20191204T193244Z
URL:https://lvo.org.uk/allfixtures/xmas-social-night-score-2/
SUMMARY:Xmas Social-O
DESCRIPTION:\nAre you one of the lucky ones booked in to enjoy some LVO fes
 tive fun this Friday?\n\n\n\nIf so\, read on for some final details - take
  special care to read the few changes and additions to the programme.\n\n\
 n\nMeal and Social at Chimney Corner Hotel - 630 Antrim Rd\, Newtownabbey\
 , BT36 4RH\n\n\n\nWilbert (planner) and Stephen (mapper) have put together
  a great Indoor-O puzzle for you. With the effort they put in and the effo
 rt it will be for us to get round the course\, it has been requested that 
 the food is served at 8pm rather than previously advertised at 7.30pm. We 
 will have a few nibbles at the Indoor-O to help keep the hunger away!\n\n\
 n\nQuiz - Immediately after the meal there will be a fun quiz. This year o
 ur quiz master/mistress is Wendy Smith. There will be rounds/challenges to
  suit us all including Juniors.\n\n\n\nPrizes - There will be a few fun pr
 izes to be given out for indoor-O and Quiz\n\n\n\nDress Code - Anything go
 es! We normally don't get the chance to see each other in anything but dir
 ty old O-clothes\, so it is nice to have a chance to get a little dressed 
 up. Note: There may be a prize for the most Christmasy look!\n\n\n\nRecycl
 e-O - There will be a table set up at the Indoor-O registration to drop of
 f (and pick up) any orienteering clothes/equipment in decent condition tha
 t you no longer use but others from the club (especially juniors) may bene
 fit from.\n\n\n\nIndoor-O at Ballyclare High School\n\n\n\nRegistration fr
 om 5pm. Starts 5.30-6.30pm.\n\n\n\nThis is the first indoor event in North
 ern Ireland and probably on the island of Ireland\, so it might be useful 
 to spend some time before the event\, with Google\, having a look at indoo
 r orienteering maps elsewhere.\n\n\n\nCar parking is available at the fron
 t of the school or in George Avenue\, which is beside the school\, to the 
 South.\n\n\n\nEntrance to the school is by the main front entrance\,  off
  the Rashee Road.\n\n\n\nRegistration\, assembly\, start and finish are al
 l located in the school gymnasium immediately left on entry to the school.
  Toilets are available adjacent to the gym.\n\n\n\n            
 •           The school is mapped at 1:750\n\n\n\n      
       •           The map will be on an A3 page\, portrai
 t.\n\n\n\n            •           The map is not or
 ientated to magnetic north\, but is aligned to the angular shape of the bu
 ilding. This means that magnetic north is +35 degrees from the long side o
 f the page ie the map is aligned approximately to the NW. (This will pleas
 e our visiting friends from NWOC!)\n\n\n\n            •   
         The school is a multi-storey building so each level of the 
 building is identified with a floor number with 0 (zero) being the ground 
 floor. Each level is mapped separately and shown with the uppermost floor 
 at the top of the page.\n\n\n\n            •        
    Staircases which connect levels are identified with a letter in blue 
 on the map on each relevant level.\n\n\n\n            •   
         Staircases which connect levels also have an arrow in blue 
 pointing upwards.\n\n\n\n            •           St
 eps which are on the same level on the map do not have an arrow.\n\n\n\n 
            •           The school grounds including 
 courtyards are also on the map at the ground floor (Level 0)\, but there w
 ill be limited opportunity to go outside.\n\n\n\n            
 •           External doors which must not be used are shown wi
 th a purple bar. Only external doors without a purple bar may be used.\n\n
 \n\n            •           Outdoors the paved area
  is shown as a dark brown.\n\n\n\n            •       
     Indoors accessible areas are shown as light brown.\n\n\n\n    
         •           Areas of the building which are not
  to be accessed are shown as building.\n\n\n\n            • 
           Canopies which are outdoors are shown as canopies.\n\n\
 n\n            •           Furniture within the sch
 ool (eg desks\, benches etc) has not been mapped\, except where there is a
  visual barrier (eg a library shelf) which is shown as an impassable fence
 .\n\n\n\n            •           Purple bars indica
 ting a temporary barrier must not be crossed by any part of the body.\n\n\
 n\n            •           A maze which includes va
 rious barriers indicated by purple lines\, which must not be crossed by an
 y part of the body (ie you must not reach over)\, will be set up in the sp
 orts hall. Note that the sports hall with the maze is replicated at a scal
 e of 1:250 on the top left corner of the map.\n\n\n\n          
   •           The retaining wall symbol is used where\, on th
 e same level\, there is a height difference eg a stage.\n\n\n\n     
        •           Doors of classrooms are generally ope
 n\, but if any are closed where the room is shown as accessible\, then the
 se doors may be opened.\n\n\n\n            •        
    Doors into areas of the building which are shown as inaccessible (dar
 k grey building symbol) will generally be locked\, but if not\, must not b
 e accessed.\n\n\n\n            •           The ligh
 ts in the school will be on\, but some areas have lights which will automa
 tically switch off after a period. Therefore a head torch could be useful\
 , but is not essential.\n\n\n\n            •        
    To assist with locating of controls\, control circles have a dot in t
 he centre.\n\n\n\n            •           Control d
 escription will be on the map but will be orientated to the top of the map
 \, rather than north.\n\n\n\n            •         
   Controls will be presented on trestles with the si boxes on the top hor
 izontal bar.\n\n\n\n            •           Two cou
 rses are on offer:\n\n\n\n             Hard 3.2km\, 75m climb\
 , 25 controls\n\n\n\n             Easier 1.2km\, 10m climb\, 1
 7 controls\n\nSee you there!\nRic Gamble \nEmail: rgamble@britishorienteer
 ing.org.uk \nTel: 07717297676
CATEGORIES:LVO Fixtures
LOCATION:Ballyclare High School\, 31 Rashee Rd\, Belfast\, Co Antrim\, BT39
  9HJ\, United Kingdom
X-APPLE-STRUCTURED-LOCATION;VALUE=URI;X-ADDRESS=31 Rashee Rd\, Belfast\, Co
  Antrim\, BT39 9HJ\, United Kingdom;X-APPLE-RADIUS=100;X-TITLE=Ballyclare 
 High School:geo:0,0
END:VEVENT
BEGIN:VTIMEZONE
TZID:Europe/London
X-LIC-LOCATION:Europe/London
BEGIN:STANDARD
DTSTART:20191027T010000
TZOFFSETFROM:+0100
TZOFFSETTO:+0000
TZNAME:GMT
END:STANDARD
END:VTIMEZONE
END:VCALENDAR