BEGIN:VCALENDAR
VERSION:2.0
PRODID:-//wp-events-plugin.com//6.6.4.4//EN
TZID:Europe/London
X-WR-TIMEZONE:Europe/London
BEGIN:VEVENT
UID:0-750@lvo.org.uk
DTSTART;TZID=Europe/London:20241218T193000
DTEND;TZID=Europe/London:20241218T203000
DTSTAMP:20241003T141032Z
URL:https://lvo.org.uk/allfixtures/went-7-lady-dixon-2024/
SUMMARY:Wednesday Evening Night Training (WENT) #7
DESCRIPTION:\n\n\nDate\nWednesday 18 December 2024\n\n\nVenue\n📍Lady Dix
 on Park\n\n\nEvent Format\nWednesday Evening Night Training is a mid-weekl
 y session during the colder\, darker months of November and December.\n\n\
 nEntry/Registration\nTo register complete this short Online Entry Form\n\n
 \nRegistration closes\nMidnight Monday 16 December 2024\n\n\nStart Times\n
 Be warmed up and ready to start at 7.30pm. Finish about 8.30pm.\n\n\nPrice
 \n💰 WENTs are free for members of LVO\, NIOA and Orienteering Ireland. 
 Non-members are also welcome to attend any of our activities and events bu
 t there is a £3 fee for this activity.\n\n\nTerrain Summary\nParkland\n\n
 \nPrevious Maps/Routegadget\nThe area was last used for a WEE in May 2024:
  https://www.lvo.routegadget.co.uk/rg2/#534\n\n\nNotes/Courses\nAny partic
 ipant under the age of 16 must be accompanied\, on the entire run\, by an 
 adult.\n\n\nKit requirements\n🧥👖 Hi-Viz clothing if possible. Waterp
 roof jacket\, full body cover and whistle mandatory.\n\nHead torch – let
  us know beforehand if you need to borrow one.\n\nDibber – these can als
 o be borrowed.\n\nPlease come appropriately dressed for the conditions. If
  cold\, layer up and consider a hat\, gloves and buff.\n\n\nParking\nParki
 ng and registration will be at the main car park.\n\n\n\nToilets\n\nTBC\n\
 n\n
LOCATION:Lady Dixon Park\, Upper Malone Road\, Belfast\, Northern Ireland
GEO:54.54103371305301;-5.9802477206542335
X-APPLE-STRUCTURED-LOCATION;VALUE=URI;X-ADDRESS=Upper Malone Road\, Belfast
 \, Northern Ireland;X-APPLE-RADIUS=100;X-TITLE=Lady Dixon Park:geo:54.5410
 3371305301,-5.9802477206542335
END:VEVENT
BEGIN:VTIMEZONE
TZID:Europe/London
X-LIC-LOCATION:Europe/London
BEGIN:STANDARD
DTSTART:20241027T010000
TZOFFSETFROM:+0100
TZOFFSETTO:+0000
TZNAME:GMT
END:STANDARD
END:VTIMEZONE
END:VCALENDAR