BEGIN:VCALENDAR
VERSION:2.0
PRODID:-//wp-events-plugin.com//6.6.4.4//EN
TZID:Europe/London
X-WR-TIMEZONE:Europe/London
BEGIN:VEVENT
UID:0-755@lvo.org.uk
DTSTART;TZID=Europe/London:20241211T193000
DTEND;TZID=Europe/London:20241211T203000
DTSTAMP:20241205T192714Z
URL:https://lvo.org.uk/allfixtures/went-6-carrickfergus-2024/
SUMMARY:Wednesday Evening Night Training (WENT) #6
DESCRIPTION:\n\n\nDate\nWednesday 11 December 2024\n\n\nVenue\n📍Ownies B
 ar &amp\; Bistro\, Joymount\, Carrickfergus\n\n\nEvent Format\nFun Urban c
 ourse which can be done individually\, in a pair or a small group.\n\nRegi
 stration and briefing will be held at the back of Ownies bar &amp\; bistro
  from 7pm.\n\nStart at 7.30 sharp and finish at 8.30pm.\n\nStay behind and
  catch up over a drink (and cake\, it may be someone's birthday) afterward
 s.\n\n\nEntry/Registration\nTo enter complete this short Online Form.\n\n\
 nOnline Registration Closes\nMidnight 9 December 2024\n\n\nTimeing\nRegist
 ration: 7pm\n\nBriefing: 7.15pm\n\nStart 7.30pm.\n\nFinish 8.30pm.\n\n\nPr
 ice\n💰 This activity is free for members of LVO\, NIOA and Orienteering
  Ireland. Non-members are also very welcome to attend any of our activitie
 s and events but there is a £3 fee for this activity.\n\n\nTerrain Summar
 y\nUrban - Streets (90%) and parkland (10%).\n\n\nPrevious Maps/Routegadge
 t\n2023-05-04 UKUL Carrickfergus\n\n\nNotes/Courses\nThere is one Score co
 urse for everyone. Visit as many controls as possible within the time limi
 t. This activity has been extended to a maximum of 1 hour to locate 40 con
 trols. If you wish to run for a shorter length of time\, you can return to
  the finish at any stage. Controls are worth 10\, 20\, 30 or 40 points eac
 h\, with a maximum score of 1000points. Penalty of 10 points/minute for la
 teness.\n\n\nKit requirements\nHead torch – let us know beforehand if yo
 u need to borrow one.\n\n🧥👖 Hi-Viz clothing if possible. Please come
  appropriately dressed for the conditions. If cold\, layer up and consider
  bringing a hat\, gloves and buff and a waterproof jacket if wet.\n\nA Dib
 ber is not required.\n\nA Smartphone with the app MapRun loaded.\n\n\nPark
 ing\nJoymount car parks\, opposite Ownies Bar &amp\; Bistro.\n\n\n\nToilet
 s\n\nNo public toilets available but we will be using Ownies Bar &amp\; Bi
 stro as a meeting point.\n\n\n
LOCATION:Carrickfergus\, Joymount Parking\, Carrickfergus\, Co Antrim\, BT3
 8 7DQ\, Northern Ireland
GEO:54.715826;-5.803989
X-APPLE-STRUCTURED-LOCATION;VALUE=URI;X-ADDRESS=Joymount Parking\, Carrickf
 ergus\, Co Antrim\, BT38 7DQ\, Northern Ireland;X-APPLE-RADIUS=100;X-TITLE
 =Carrickfergus:geo:54.715826,-5.803989
END:VEVENT
BEGIN:VTIMEZONE
TZID:Europe/London
X-LIC-LOCATION:Europe/London
BEGIN:STANDARD
DTSTART:20241027T010000
TZOFFSETFROM:+0100
TZOFFSETTO:+0000
TZNAME:GMT
END:STANDARD
END:VTIMEZONE
END:VCALENDAR