BEGIN:VCALENDAR
VERSION:2.0
PRODID:-//wp-events-plugin.com//6.6.4.4//EN
TZID:Europe/London
X-WR-TIMEZONE:Europe/London
BEGIN:VEVENT
UID:0-534@lvo.org.uk
DTSTART;TZID=Europe/London:20221130T191500
DTEND;TZID=Europe/London:20221130T203000
DTSTAMP:20221027T131335Z
URL:https://lvo.org.uk/allfixtures/went-5-botanic-gardens-night-training/
SUMMARY:WENT 5 - Botanic Gardens Night Training
DESCRIPTION:The fifth Wednesday Evening Night Training takes place at Botan
 ic Gardens.\n\nEntry: Please give Philip as much notice as possible so he 
 can arrange map printing - message on LVO Facebook page or email\, treasur
 er@niorienteering.org.uk. Deadline - Wednesday lunchtime at very latest. A
 lthough there will probably be a few extra maps printed off\, please do no
 t assume if you turn up on the night there will any spares for you if you 
 haven't let us know beforehand.\n\nCost: Free for club members. £3 for no
 n-members\n\nMeet: 7.15pm in Queens\, McClay Library carpark for a 7.30pm 
 sharp start.\n\nBring: Head torch. Whistle. Compass. Watch. Appropriate fu
 ll body cover for weather - warm and waterproof if necessary and preferabl
 y bright/reflective. Dibber - Dibbers can be borrowed for free but if lost
  a £30 replacement cost will be required. A sense of adventure and humour
 !\n\nThe other remaining WENTs in the Series are:\n\n7 Dec - Lisburn MapRu
 n 45 min Urban Score\n\n14 Dec Lady Dixon Training\n\nPlease note: For saf
 ety and insurance reasons\, Juniors under 16 are not allowed to participat
 e in MapRun Urban courses unless accompanied by an adult.
CATEGORIES:Training
LOCATION:Botanic Gardens\, QUB McClay Library\, Belfast\, BT7 1LP\, Norther
 n Ireland
GEO:54.584768;-5.932629
X-APPLE-STRUCTURED-LOCATION;VALUE=URI;X-ADDRESS=QUB McClay Library\, Belfas
 t\, BT7 1LP\, Northern Ireland;X-APPLE-RADIUS=100;X-TITLE=Botanic Gardens:
 geo:54.584768,-5.932629
END:VEVENT
BEGIN:VTIMEZONE
TZID:Europe/London
X-LIC-LOCATION:Europe/London
BEGIN:STANDARD
DTSTART:20221030T010000
TZOFFSETFROM:+0100
TZOFFSETTO:+0000
TZNAME:GMT
END:STANDARD
END:VTIMEZONE
END:VCALENDAR