BEGIN:VCALENDAR
VERSION:2.0
PRODID:-//wp-events-plugin.com//6.6.4.4//EN
TZID:Europe/London
X-WR-TIMEZONE:Europe/London
BEGIN:VEVENT
UID:0-754@lvo.org.uk
DTSTART;TZID=Europe/London:20241127T193000
DTEND;TZID=Europe/London:20241127T203000
DTSTAMP:20241122T095923Z
URL:https://lvo.org.uk/allfixtures/went-4-botanic-ave-2024/
SUMMARY:Wednesday Evening Night Training (WENT) #4
DESCRIPTION:\n\n\nDate\nWednesday 27 November 2024\n\n\nVenue\n📍Queens U
 niversity\, McClay Library car park\, College Park. Meet afterwards for a 
 coffee/ice cream at Al Geleto.\n\n\nEvent Format\nWednesday Evening Night 
 Training is a mid-weekly session during the colder\, darker months of Nove
 mber and December.\n\nThis week is MapRun week.\n\n\nEntry/Registration\nT
 o enter complete this short Online Form\n\n\nRegistration closes\nMidnight
  Monday 25 November 2024\n\n\nStart Times\nBe warmed up and ready to start
  at 7.30pm. Finish about 8.30pm.\n\n\nPrice\n💰 WENTs are free for membe
 rs of LVO\, NIOA and Orienteering Ireland. Non-members are also welcome to
  attend any of our activities and events but there is a £3 fee for this a
 ctivity.\n\n\nTerrain Summary\nUrban - streets and some roads with busy tr
 affic. Most pedestrian road crossings will be marked on map. Please follow
  highway code Give way to other pedestrians and road users.\n\n\nPrevious 
 Maps/Routegadget\nTBC\n\n\nNotes/Courses\nScore course. 35 controls to col
 lect in any order in 45 minutes. Controls are worth 10-40 points with a 10
  point per minute penalty for lateness. Max score 800 points.\n\nOptimal r
 oute is approximately 8km.\n\n\nKit requirements\nHead torch – let us kn
 ow beforehand if you need to borrow one.\n\nCompass - can be borrowed if n
 ecessary.\n\nA dibber is not required.\n\nA Smartphone with the app MapRun
  loaded.\n\n🧥👖Please come appropriately dressed for the conditions. 
 Hi-Viz clothing. If cold/wet\, layer up and consider a hat\, gloves and bu
 ff and waterproof jacket.\n\n\nParking\nParking and registration will be a
 t the car park at McClay library\n\n\n\nToilets\n\nPublic Toilets not avai
 lable\, but there are Uni building and local coffee shops with toilets whi
 ch you may be able to use.\n\n\n
LOCATION:Botanic Avenue\, QUB McClay Library\, Belfast\, BT7 1LP\, Northern
  Ireland
GEO:54.584768;-5.932629
X-APPLE-STRUCTURED-LOCATION;VALUE=URI;X-ADDRESS=QUB McClay Library\, Belfas
 t\, BT7 1LP\, Northern Ireland;X-APPLE-RADIUS=100;X-TITLE=Botanic Avenue:g
 eo:54.584768,-5.932629
END:VEVENT
BEGIN:VTIMEZONE
TZID:Europe/London
X-LIC-LOCATION:Europe/London
BEGIN:STANDARD
DTSTART:20241027T010000
TZOFFSETFROM:+0100
TZOFFSETTO:+0000
TZNAME:GMT
END:STANDARD
END:VTIMEZONE
END:VCALENDAR