BEGIN:VCALENDAR
VERSION:2.0
PRODID:-//wp-events-plugin.com//6.6.4.4//EN
TZID:Europe/London
X-WR-TIMEZONE:Europe/London
BEGIN:VEVENT
UID:0-355@lvo.org.uk
DTSTART;TZID=Europe/London:20191211T190000
DTEND;TZID=Europe/London:20191211T193000
DTSTAMP:20191208T183801Z
URL:https://lvo.org.uk/allfixtures/went-4-4/
SUMMARY:WENT 4
DESCRIPTION:Wednesday Evening Night Training\n\n&nbsp\;\n\nDetails are on t
 he news page below
CATEGORIES:LVO Fixtures,Training
LOCATION:Sir Thomas & Lady Dixon Park\, 237 Upper Malone Rd\, Belfast\, BT1
 7 9LA\, Northern Ireland
GEO:54.54181018982428;-5.9798652936401595
X-APPLE-STRUCTURED-LOCATION;VALUE=URI;X-ADDRESS=237 Upper Malone Rd\, Belfa
 st\, BT17 9LA\, Northern Ireland;X-APPLE-RADIUS=100;X-TITLE=Sir Thomas & L
 ady Dixon Park:geo:54.54181018982428,-5.9798652936401595
END:VEVENT
BEGIN:VTIMEZONE
TZID:Europe/London
X-LIC-LOCATION:Europe/London
BEGIN:STANDARD
DTSTART:20191027T010000
TZOFFSETFROM:+0100
TZOFFSETTO:+0000
TZNAME:GMT
END:STANDARD
END:VTIMEZONE
END:VCALENDAR