BEGIN:VCALENDAR
VERSION:2.0
PRODID:-//wp-events-plugin.com//6.6.4.4//EN
TZID:Europe/London
X-WR-TIMEZONE:Europe/London
BEGIN:VEVENT
UID:0-354@lvo.org.uk
DTSTART;TZID=Europe/London:20191127T190000
DTEND;TZID=Europe/London:20191127T193000
DTSTAMP:20191125T202305Z
URL:https://lvo.org.uk/allfixtures/went-3-3/
SUMMARY:WENT 3
DESCRIPTION:Wednesday Evening Night Training\n\n&nbsp\;\n\nDetails are on t
 he news page
CATEGORIES:LVO Fixtures,Training
LOCATION:Botanic Avenue\, QUB McClay Library\, Belfast\, BT7 1LP\, Northern
  Ireland
GEO:54.584768;-5.932629
X-APPLE-STRUCTURED-LOCATION;VALUE=URI;X-ADDRESS=QUB McClay Library\, Belfas
 t\, BT7 1LP\, Northern Ireland;X-APPLE-RADIUS=100;X-TITLE=Botanic Avenue:g
 eo:54.584768,-5.932629
END:VEVENT
BEGIN:VTIMEZONE
TZID:Europe/London
X-LIC-LOCATION:Europe/London
BEGIN:STANDARD
DTSTART:20191027T010000
TZOFFSETFROM:+0100
TZOFFSETTO:+0000
TZNAME:GMT
END:STANDARD
END:VTIMEZONE
END:VCALENDAR