BEGIN:VCALENDAR
VERSION:2.0
PRODID:-//wp-events-plugin.com//6.6.4.4//EN
TZID:Europe/London
X-WR-TIMEZONE:Europe/London
BEGIN:VEVENT
UID:0-353@lvo.org.uk
DTSTART;TZID=Europe/London:20191113T190000
DTEND;TZID=Europe/London:20191113T193000
DTSTAMP:20191116T204434Z
URL:https://lvo.org.uk/allfixtures/went-2-2/
SUMMARY:WENT 2
DESCRIPTION:Wednesday Evening Night Training\n\nDetails are on the news pag
 e
CATEGORIES:LVO Fixtures,Training
LOCATION:Musgrave Park\, Balmoral Avenue\, Belfast\, Northern Ireland
GEO:54.569751490583584;-5.973920863073772
X-APPLE-STRUCTURED-LOCATION;VALUE=URI;X-ADDRESS=Balmoral Avenue\, Belfast\,
  Northern Ireland;X-APPLE-RADIUS=100;X-TITLE=Musgrave Park:geo:54.56975149
 0583584,-5.973920863073772
END:VEVENT
BEGIN:VTIMEZONE
TZID:Europe/London
X-LIC-LOCATION:Europe/London
BEGIN:STANDARD
DTSTART:20191027T010000
TZOFFSETFROM:+0100
TZOFFSETTO:+0000
TZNAME:GMT
END:STANDARD
END:VTIMEZONE
END:VCALENDAR