BEGIN:VCALENDAR
VERSION:2.0
PRODID:-//wp-events-plugin.com//6.6.4.4//EN
TZID:Europe/London
X-WR-TIMEZONE:Europe/London
BEGIN:VEVENT
UID:0-352@lvo.org.uk
DTSTART;TZID=Europe/London:20191030T190000
DTEND;TZID=Europe/London:20191030T193000
DTSTAMP:20191116T204443Z
URL:https://lvo.org.uk/allfixtures/went-1-4/
SUMMARY:WENT 1
DESCRIPTION:Wednesday Evening Night Training\n\nDetails are on the News pag
 e
CATEGORIES:LVO Fixtures,Training
LOCATION:Ormeau Park\, Ormeau Embankment\, Belfast\, Northern Ireland
GEO:54.589048;-5.916391
X-APPLE-STRUCTURED-LOCATION;VALUE=URI;X-ADDRESS=Ormeau Embankment\, Belfast
 \, Northern Ireland;X-APPLE-RADIUS=100;X-TITLE=Ormeau Park:geo:54.589048,-
 5.916391
END:VEVENT
BEGIN:VTIMEZONE
TZID:Europe/London
X-LIC-LOCATION:Europe/London
BEGIN:STANDARD
DTSTART:20191027T010000
TZOFFSETFROM:+0100
TZOFFSETTO:+0000
TZNAME:GMT
END:STANDARD
END:VTIMEZONE
END:VCALENDAR