BEGIN:VCALENDAR
VERSION:2.0
PRODID:-//wp-events-plugin.com//6.6.4.4//EN
TZID:Europe/London
X-WR-TIMEZONE:Europe/London
BEGIN:VEVENT
UID:0-474@lvo.org.uk
DTSTART;TZID=Europe/London:20210616T183000
DTEND;TZID=Europe/London:20210616T194500
DTSTAMP:20210617T083555Z
URL:https://lvo.org.uk/allfixtures/wee-7-antrim-castle-gardens-2/
SUMMARY:WEE 7 Antrim Castle Gardens
DESCRIPTION:\n\n\n\n\n\nEvent details\n\n\n\n 	Online entry only at https:/
 /www.sientries.co.uk/\n 	Entries go live on Friday 11 June 2021 at 18:00. 
 Entries close on Tuesday 15 June 2021 at 18:00.\n 	Entry is available to a
 ll comers\, both LVO members and non-members.\n 	There will be two course
 s\, Short (approx. 2.5k) and Long (approx. 4k). Distances as the crow flie
 s.\n 	Both courses will be include controls inside and outside Antrim Cast
 le Gardens grounds\, be particularly careful around car parks.\n 	Apart fr
 om some access roads\, there should be no main road crossings\, bridges or
  underpasses should be used and will be optimal routes. Crossing of main r
 oads is not permitted. \n 	Some areas are shown on the map by purple shad
 ing these are strictly out of bounds for runners.\n 	Many gates/entrances 
 will also be shown on the map with a purple line blocking access. Even if 
 they are open on the night for other park users\, they are not to be used 
 by runners.\n 	Vegetation is typically spring like\, so unless you love it
 chy and scratchy legs\, wear full leg protection.\n\n\n\n\nEntry Fees\n\n\
 n\n\n\n\n\nSenior (Age class 21 and over)      £5\n\nJunior / Student
                                £3\n\nMaximum charge for a
  family      £13*\n\n*If you are entering a family and it comes to m
 ore than £13 then please contact the organiser after you have paid for th
 e individual Senior\, or Junior/Student entries and we will arrange refund
  of the difference. Parents accompanying children go free.\n\nSI timing ca
 rd hire is free but are charged at replacement cost £30 if lost.\n\n\n\n\
 n\n\n\n\nParking: Park at Central Car Park\, Castle Mall Shopping Centre o
 n the opposite side of the main road to Antrim Castle Gardens. Parking is 
 free and open 24 hours. The entrance to the car park is off Castle Way A52
 2 (height restriction of 2.2m). Participants will cross at the pedestrian 
 crossing to the start.\n\nRegistration: Not required if using own SI Card
  - proceed directly to start. Hire cards can be collected from the Organi
 ser at the download car.\n\nStarts: The starts are on the other side of th
 e road opposite the registration/download car and accessed by the pedestri
 an crossing. There will be two Start Lanes (Long and Short). Start times a
 re in 15min blocks with up to 15 runners at each start area.\n\nFinish &am
 p\; Download: After finishing proceed to the Download car. To continue to 
 do our bit and help prevent the spread of Covid\, we kindly request you do
  not loiter but head safely home.\n\nToilets: at Clotworthy House (until 6
 pm) and Antrim Forum Leisure Centre (until 10pm).\n\nCoronavirus Safety Me
 asures\n\n\nA number of measures have been put in place to provide for 2m 
 Social Distancing and ensure your safety throughout this activity. Here is
  a link to the British Orienteering Participant Code of Conduct which all 
 participants are expected to have read beforehand and adhere to.\n\nThe ma
 in aspects for this event we would like you to pay attention to are:\n\n 	
 Start Times are pre-allocated in 15min blocks so that we can minimise the 
 number of people at the various stages of the event. Please time your arri
 val so that you can get to your start just in time\n 	During the event ple
 ase use the hand sanitisers provided to maintain hygiene\n 	Do not touch t
 he SI Control boxes except with the SI Card\n 	During the race please be a
 ware of who is around you and try to maintain distance especially when app
 roaching Controls\n 	As we are using public parks please be mindful of oth
 er park users and give them space\n 	Please minimise pre and post-activity
  socialising and maintain your distance\n 	Car sharing (except for househo
 ld bubbles) is not permitted to and from the event\n\nIMPORTANT You MUST 
 NOT attend the activity if:\n\n 	You are unwell with a cough\, fever or 
 have had other Covid symptoms or tested positive for Covid-19 within the
  last 10 days\n 	You have been in close contact with anyone who is suspe
 cted of or confirmed as having Covid-19 in the 10 days before this event\n
  	You are supposed to be Self Isolating or are undergoing testing for su
 spected Coronavirus\n 	You have been outside of Northern Ireland within 
 the last 10 days **EXCEPT from exempted countries  - See https://www.nid
 irect.gov.uk/articles/coronavirus-covid-19-travel-advice for the current 
 rules .\n\nIf you have a condition that makes you Clinically Vulnerable\,
  please follow current government and medical advice before registering.\n
 If you need to withdraw your entry due to Coronavirus restrictions we will
  refund your entry fee on request.\n\nIn the the event that regulations ch
 ange and we have to cancel the event we will refund entry fees.
CATEGORIES:LVO Fixtures,WEE2021
LOCATION:Antrim Castle Mall\, Castle Way\, Antrim\, BT41 4DN\, Northern Ire
 land
GEO:54.716157;-6.219891
X-APPLE-STRUCTURED-LOCATION;VALUE=URI;X-ADDRESS=Castle Way\, Antrim\, BT41 
 4DN\, Northern Ireland;X-APPLE-RADIUS=100;X-TITLE=Antrim Castle Mall:geo:5
 4.716157,-6.219891
END:VEVENT
BEGIN:VTIMEZONE
TZID:Europe/London
X-LIC-LOCATION:Europe/London
BEGIN:DAYLIGHT
DTSTART:20210328T020000
TZOFFSETFROM:+0000
TZOFFSETTO:+0100
TZNAME:BST
END:DAYLIGHT
END:VTIMEZONE
END:VCALENDAR