BEGIN:VCALENDAR
VERSION:2.0
PRODID:-//wp-events-plugin.com//6.6.4.4//EN
TZID:Europe/London
X-WR-TIMEZONE:Europe/London
BEGIN:VEVENT
UID:0-659@lvo.org.uk
DTSTART;TZID=Europe/London:20240612T183000
DTEND;TZID=Europe/London:20240612T200000
DTSTAMP:20240610T162156Z
URL:https://lvo.org.uk/allfixtures/wee-6-antrim-gardens/
SUMMARY:WEE 6 - Antrim Castle Gardens
DESCRIPTION:WELCOME\nThe 2024 Wednesday Evening Event series is here with 4
  events in May and 4 more in June.\nThe WEE series is a great introduction
  if you are new to the sport\, or a valuable training opportunity if you a
 re already a dab hand. For those who thrive on competition we also have so
 mething for you with the WEE series league table.\nLOCATIONS\nParking:\nTw
 o car parks are available:\n\n 	Parking at Clotworthy House for those with
  primary school age children. Clotworthy House\, Randalstown Rd\, Antrim B
 T41 4LH\n 	Parking at Castle Mall Shopping Centre for other participants. 
 Please follow taped route via underpass to registration and start.\n\n\nCl
 ick for directions\nRegistration + Download: Adjacent to car park at Clot
 worthy House.\nENTRIES\nPricing:\n\n\n\n\n\nEntry on the day\nOnline entry
  (non-members)\nOnline entry (members)\n\n\nSenior (21+)\n£7\n£7\n£5\n\
 n\nJunior/Student\n£3\n£3\n£3\n\n\nAdults accompanying a junior\nFree\n
 N/A\nN/A\n\n\nMax charge for a family\n£17\n£17\n£13\n\n\nNon-members w
 ho compete in more than three events are not covered by BOF public liabili
 ty insurance\n\n\n\n\n\n*Online entries close at 7pm on Tuesday 18 June*\n
 TIMINGS\nRegistration: 1815 - 1915\nStarts: 1830 - 1930\nCourse Closed: 20
 30\nCOURSE DETAILS\nLength: Long Course - approx 4km / Short Course - appr
 ox 2km\nSAFETY\nClothing: Full leg cover is recommended to protect against
  summer growth of briers and nettles\nHazards: N/A\nDOGS\nDogs are permitt
 ed in the carpark and on the course\, however common sense control of dogs
  applies.\nRESULTS\n\n\nAs well as the usual simple\, winsplits and routeg
 adget results\, the 2024 WEE series will have two styles of handicap resul
 ts published.\nThe first style revives the handicap system used in the pas
 t for the WEEs – a handicap which aims to put competitors on a level pla
 ying field for age and gender.\nThe second style is an innovative handicap
  system designed by Alan Gartside which\, additionally\, accounts for comp
 etitors who may have a long-term injury preventing them from travelling as
  fast as they otherwise could. This system is called hCOW.
LOCATION:Antrim Castle Gardens\, Randalstown Road\, Antrim\, County Antrim\
 , BT41 4LH\, Northern Ireland
GEO:54.7216852;-6.231797400000005
X-APPLE-STRUCTURED-LOCATION;VALUE=URI;X-ADDRESS=Randalstown Road\, Antrim\,
  County Antrim\, BT41 4LH\, Northern Ireland;X-APPLE-RADIUS=100;X-TITLE=An
 trim Castle Gardens:geo:54.7216852,-6.231797400000005
END:VEVENT
BEGIN:VTIMEZONE
TZID:Europe/London
X-LIC-LOCATION:Europe/London
BEGIN:DAYLIGHT
DTSTART:20240331T020000
TZOFFSETFROM:+0000
TZOFFSETTO:+0100
TZNAME:BST
END:DAYLIGHT
END:VTIMEZONE
END:VCALENDAR