BEGIN:VCALENDAR
VERSION:2.0
PRODID:-//wp-events-plugin.com//6.6.4.4//EN
TZID:Europe/London
X-WR-TIMEZONE:Europe/London
BEGIN:VEVENT
UID:0-756@lvo.org.uk
DTSTART;TZID=Europe/London:20250507T183000
DTEND;TZID=Europe/London:20250507T193000
DTSTAMP:20250508T073734Z
URL:https://lvo.org.uk/allfixtures/wee-1-25/
SUMMARY:WEE 1
DESCRIPTION:\n\n\nDate\nWednesday 7 May 2025\n\n\nVenue\nOrmeau Park\n\n\nE
 vent Format\nThe Wednesday Evening Event (WEE) Series consists of eight ra
 ces throughout May and June.\n\nThe WEE series is a great introduction if 
 you are new to the sport\, or a valuable training opportunity if you are a
 lready a dab hand. For those who thrive on competition we also have someth
 ing for you\, with the WEE series league table.\n\n\nOnline Entry\n.\n\n\n
 SI Entries\n \n\n\nOnline Entry closes\n7pm\, Tuesday 6 May 2025\n\nLimite
 d Entry on the Day is available at non-member rates\, depending on map ava
 ilability. See here for Terms.\n\n\nRegistration\, Start and Finish\nRegi
 stration: 6.15pm - 7.15pm\n\nStarts: 6.30pm - 7.30pm\n\nCourse Closed: 8.3
 0pm\n\n\nPrice\n\n\n\n\nRace Prices\nOnline Member*\nOnline Non-Member and
  Entry on Day\n\n\nSenior (aged 21 or over)\n6\n10\n\n\nJunior or Student\
 n3\n3\n\n\nMaximum charge for a family**\n15\n23\n\n\n\nSociable group / f
 amily fee where all are going round a course together – entry fee is per
  required number of maps – one entry = one map. There is no fee to hire 
 an SI card if required\, but lost cards are charged at £30.\n\n*Orienteer
 ing club members only. Avail of our reduced event rates by joining our clu
 b today: https://www.britishorienteering.org.uk/join_online\n\n**A family 
 charge is for two seniors and one junior. Additional juniors go free.\n\nI
 f you're a member of a NIOA club\, you can bring non-orienteering friends 
 for free. Fill in the form for one free entry: https://forms.office.com/r/
 e1f9NMfCky Remember\, they can only have one free entry within the WEE se
 ries. If they like the event and want to come back for more\, they can joi
 n our club and pay membership rates\, or pay as a non-member next time.\n\
 n\nTerrain Summary\nParkland\n\n\nPrevious Maps/Routegadget\nOrmeau Park w
 as last used in May 2024 for a WEE series event: https://www.lvo.routegadg
 et.co.uk/rg2/#531\n\n\nCourse Notes\nLong Course – approx 4km\n\nShort C
 ourse – approx 2km\n\n\nFirst Aid and Safety\nWatch out for other park u
 sers.\n\nThere will be a first aid and a qualified first aider available a
 t registration. Registration is also a safe place for lost children to wai
 t.\n\nPlease do not come to the event if you are unwell.\n\nPlease bring a
 nd carry any medication you might need\, especially inhalers and EpiPen’
 s.\n\nIf you come across an injured or ill person\, please stop\, help and
  get further help. There will likely be qualified first aiders on the cour
 se who can stop to provide support.\n\nAll participants must return to dow
 nload\, whether they complete the course or not. This is to account for al
 l competitors\, ensuring everyone’s safe return.\n\nCourses will close a
 nd controls collected in at 8.30pm sharp. If you are still out on the cour
 se at this time return to finish and download immediately.\n\n\nKit requir
 ements\nFull leg cover is recommended to protect against summer growth of 
 briers and nettles.\n\nA waterproof jacket may also be mandatory if the or
 ganisers decide the weather requires one\, so bring one along just in case
 .\n\nDogs are permitted in the carpark and on the course\, however common 
 sense control of dogs applies.\n\n\nParking\nOrmeau Park Carpark (BT6 8LT)
 \n\n\n\n\n\n\n\n\n\n\nNeed a ride to the event? Join our WhatsApp car shar
 e group and request a lift (LVO members only).\n\n\n\n\n\n\n\n\n\n\n\n\nTo
 ilets\nTBC\n\n\n
LOCATION:Ormeau Park\, Ormeau Embankment\, Belfast\, Northern Ireland
GEO:54.589048;-5.916391
X-APPLE-STRUCTURED-LOCATION;VALUE=URI;X-ADDRESS=Ormeau Embankment\, Belfast
 \, Northern Ireland;X-APPLE-RADIUS=100;X-TITLE=Ormeau Park:geo:54.589048,-
 5.916391
END:VEVENT
BEGIN:VTIMEZONE
TZID:Europe/London
X-LIC-LOCATION:Europe/London
BEGIN:DAYLIGHT
DTSTART:20250330T020000
TZOFFSETFROM:+0000
TZOFFSETTO:+0100
TZNAME:BST
END:DAYLIGHT
END:VTIMEZONE
END:VCALENDAR