BEGIN:VCALENDAR
VERSION:2.0
PRODID:-//wp-events-plugin.com//6.6.4.4//EN
TZID:Europe/London
X-WR-TIMEZONE:Europe/London
BEGIN:VEVENT
UID:0-345@lvo.org.uk
DTSTART;TZID=Europe/London:20190804T140000
DTEND;TZID=Europe/London:20190804T143000
DTSTAMP:20190729T202033Z
URL:https://lvo.org.uk/allfixtures/tollymore-orienteers-august-adventure-1
 /
SUMMARY:Tollymore Orienteers - August Adventure #1 &amp\; OCO - Fun in the 
 Sun #3
DESCRIPTION:🌲 Kilbroney Forest Park \n🌲 Sunday 4th August\n🌲 R
 egistration from 2:00pm\n🌲 Last start 2:30pm\n🌲 Courses close 4:00
 pm\n🌲 3 courses on offer - yellow\, orange and light green\n🌲 £2 
 per map (£4 for nonmembers)\n\n\nALL WELCOME - get out there and get expl
 oring this August with Tollymore Orienteers https://www.facebook.com/toll
 ymoreorienteers/\n\nAs always\, any questions just leave a comment or send
  us a message!\n\n🚙 Parking and registration for Orienteers will stric
 tly be in the overflow car park (the old mtb carpark\, just before the car
 avan park entrance) 🚙\n\n
LOCATION:Kilbroney Park\, Rostrevor\, Shore Road\, Rostrevor\, BT34 3AA\, N
 orthern Ireland
GEO:54.0972851;-6.1904680999999755
X-APPLE-STRUCTURED-LOCATION;VALUE=URI;X-ADDRESS=Shore Road\, Rostrevor\, BT
 34 3AA\, Northern Ireland;X-APPLE-RADIUS=100;X-TITLE=Kilbroney Park\, Rost
 revor:geo:54.0972851,-6.1904680999999755
END:VEVENT
BEGIN:VTIMEZONE
TZID:Europe/London
X-LIC-LOCATION:Europe/London
BEGIN:DAYLIGHT
DTSTART:20190331T020000
TZOFFSETFROM:+0000
TZOFFSETTO:+0100
TZNAME:BST
END:DAYLIGHT
END:VTIMEZONE
END:VCALENDAR