BEGIN:VCALENDAR
VERSION:2.0
PRODID:-//wp-events-plugin.com//6.6.4.4//EN
TZID:Europe/London
X-WR-TIMEZONE:Europe/London
BEGIN:VEVENT
UID:0-551@lvo.org.uk
DTSTART;TZID=Europe/London:20230415T113000
DTEND;TZID=Europe/London:20230415T133000
DTSTAMP:20230415T173555Z
URL:https://lvo.org.uk/allfixtures/spring-cup-3-hillsborough-2/
SUMMARY:Spring Cup 3 - Hillsborough
DESCRIPTION:Event Description\n\nCourses: 4 Courses Available:\n\n💛YELLO
 W – 1.9km climb / 15m – for younger children &amp\; family groups\, as
  well as more cautious new adults\n\n🧡ORANGE – 2.6km / 30m – for ch
 ildren &amp\; family groups moving on from yellow\, as well as more advent
 urous new adults\n\n💚SHORT GREEN – 3km / 45m – difficult orienteeri
 ng\, though not as physically demanding as the biggest course. Generally f
 or experienced orienteers\, though a VERY adventurous new adult might give
  this a bash.\n\n💙SHORT BLUE – 4.5km / 65m – difficult orienteering
 \, our most challenging course on offer – please note for added challeng
 e the tracks/paths/rides have been removed from the map for this course.\n
 \nCourses have been planned to make the best use of the technical sections
  of Hillsborough Forest Park. Due to the terrain\, courses have been plann
 ed to be more of a middle distance feel\, so expect plenty of changes in d
 irection and legs to be technically demanding! The Orange and Yellow cours
 es have been planned at the upper end of relevant technical guidelines\, s
 o make use of handrails (ditches etc) as well as paths. They offer corner 
 cutting opportunities and will provide an entertaining challenge. The Yell
 ow course is not suitable for push chairs.\n\nControls will be SIAC enable
 d.\n\nClothing &amp\; Safety:\n\nFull length leg cover is very strongly ad
 vised. Please return to download at the Village Centre after finishing\, e
 ven if you do not complete the course.\n\nDirections\, parking\, and locat
 ion information:\n\nhttps://goo.gl/maps/1dxYEgVMkoReUKPA8\n\nHillsborough 
 is the most visited forest park in NI and Saturdays are a peak time so we 
 will be using the car park at the Hillsborough Village Centre NOT the fore
 st car park. Registration and download will be in the car park.\n\nThere w
 ill be a short walk along the main road to access the side gate into the f
 orest\, please stay on the footpath available and be careful crossing the 
 road to the gate. We hope to have a marshal keeping an eye out for you all
 . Once in the forest there is 5 minute walk to the start. The finish is ne
 ar the gate\, please return to the car park for download.\n\nToilets:\n\nH
 RP is responsible for toilet facilities at the Fort and Courthouse and hav
 e them shut at the moment. However\, the toilets at Main Street car park a
 nd the forest play area in the park will be open.\n\nEntries:\n\nSenior (a
 ged 21 or over) Member £7\, Non-member £9\n\nJunior or Student Member £
 3\, Non-member £4\n\nMaximum charge for a family\, Members £17\, Non-mem
 bers £22\n\n
LOCATION:Hillsborough Forest\, Park Street\, Hillsborough\, BT26 6DP\, Nort
 hern Ireland
GEO:54.4594105;-6.084291200000052
X-APPLE-STRUCTURED-LOCATION;VALUE=URI;X-ADDRESS=Park Street\, Hillsborough\
 , BT26 6DP\, Northern Ireland;X-APPLE-RADIUS=100;X-TITLE=Hillsborough Fore
 st:geo:54.4594105,-6.084291200000052
END:VEVENT
BEGIN:VTIMEZONE
TZID:Europe/London
X-LIC-LOCATION:Europe/London
BEGIN:DAYLIGHT
DTSTART:20230326T020000
TZOFFSETFROM:+0000
TZOFFSETTO:+0100
TZNAME:BST
END:DAYLIGHT
END:VTIMEZONE
END:VCALENDAR