BEGIN:VCALENDAR
VERSION:2.0
PRODID:-//wp-events-plugin.com//6.6.4.4//EN
TZID:Europe/London
X-WR-TIMEZONE:Europe/London
BEGIN:VEVENT
UID:0-261@lvo.org.uk
DTSTART;TZID=Europe/London:20190309T113000
DTEND;TZID=Europe/London:20190309T130000
DTSTAMP:20190309T160608Z
URL:https://lvo.org.uk/allfixtures/spring-cup-2-3/
SUMMARY:LVO SPRING CUP 2
DESCRIPTION:The second Spring Cup will take place next Saturday 9th March i
 n Woodburn Forest\, Carrickfergus. Parking is available at Woodburn Presby
 terian Church (toilets are available).\n\nRegistration opens at 11am with 
 starts from 11:30 to 1.00pm. Courses close 3.00pm.\n\nThe map has been upd
 ated and runners should expect to encounter a significant amount of storm 
 damage\, most of which is passable.  Individual fallen trees have not bee
 n mapped.  Any larger blocks of windblown trees have been mapped as fight
 .  There has also been a lot of Mountain Bike and Scrambler activity whic
 h has generated new minor paths.  Only the more obvious of these have bee
 n added to the map.\n\nThe Yellow course has two short sections that follo
 w earth banks. Parents should please make sure that children are aware of 
 this and perhaps point out examples of earth banks near the start area if 
 appropriate.\n\nAs usual there will be 3 courses Green\, Orange and Yellow
  to suit all abilities.\n\nEntry Fees:\n\n\n\n\nMember\nNon member\n\n\nSe
 nior\n£7\n£9\n\n\nUnwaged / Student\n£5\n£7\n\n\nJunior\n£3\n£4\n\n\
 nFamily\n£17\n£22\n\n\n\nGet Annual Membership at the event and enter at
  the Member rate!   Non members who compete in more than three events ar
 e not covered by our public liability insurance\nController: Bill Simpson\
 nPlanner: Helen Pruzina\nOrganiser: Stephanie Pruzina\n&nbsp\;\n\n&nbsp\;\
 n\n&nbsp\;
CATEGORIES:LVO Fixtures,Spring Cup
LOCATION:Woodburn Forest - Upper Carpark\, 190 Woodburn Road\, Carrickfergu
 s\, BT38 9AB\, Northern Ireland
GEO:54.738641;-5.880352
X-APPLE-STRUCTURED-LOCATION;VALUE=URI;X-ADDRESS=190 Woodburn Road\, Carrick
 fergus\, BT38 9AB\, Northern Ireland;X-APPLE-RADIUS=100;X-TITLE=Woodburn F
 orest - Upper Carpark:geo:54.738641,-5.880352
END:VEVENT
BEGIN:VTIMEZONE
TZID:Europe/London
X-LIC-LOCATION:Europe/London
BEGIN:STANDARD
DTSTART:20181028T010000
TZOFFSETFROM:+0100
TZOFFSETTO:+0000
TZNAME:GMT
END:STANDARD
END:VTIMEZONE
END:VCALENDAR