BEGIN:VCALENDAR
VERSION:2.0
PRODID:-//wp-events-plugin.com//6.6.4.4//EN
TZID:Europe/London
X-WR-TIMEZONE:Europe/London
BEGIN:VEVENT
UID:0-259@lvo.org.uk
DTSTART;TZID=Europe/London:20190216T113000
DTEND;TZID=Europe/London:20190216T130000
DTSTAMP:20190216T191137Z
URL:https://lvo.org.uk/allfixtures/spring-cup-1-2/
SUMMARY:LVO SPRING CUP 1
DESCRIPTION:\nWelcome to the first of LVO's 2019 "Spring Cup" Series\nHavin
 g braved the overgrown slopes of the Cavehill during the mild Autumn surve
 ying the permanent orienteering course\, its been a joy to be out planning
  Spring Cup 1 over the last few weeks.  Don't miss this opportunity to ge
 t out and enjoy it too before 2019's brambles take over again.\nRegistrati
 on\, Start Times and Closing Time\n\n 	Registration will be at the car-par
 k beside the childrens playground from 11:00.\n 	Starts are from 11:30 to 
 13:00.\n 	Courses close at 15:00\, at which time controls will be lifted.\
 n\nSI timing will be in use.  Dibbers will be available for hire (no char
 ge) at registration.\nCourses\n\n 	Green 3.4km\, 190m climb\n 	Orange 2.8k
 m\, 80m climb\n 	Yellow 1.5km\, 60m climb\n\nMap\nBelfast Castle\, Scale 1
 :7500\nTerrain\nThe park is situated on the lower slopes of the Cavehill.
   It incorporates mixed parkland around Belfast Castle at the lower end\,
  with wood land and open hillside above.  The slopes can be very steep pa
 rticularly higher up.\n\nThere is a good path network traversing the slope
 s.  Off the paths there is a mixture of open woodland and some dense unde
 rgrowth with old windblown.\nDirections and Parking\nEnter the park from t
 he Antrim Road\, there is a narrow entrance signposted for 'Cavehill Count
 ry Park and Adventure Playground'.  Look out for the orienteering flag.\n
 \nRegistration will be at the MOO trailer in the lower carpark beside the 
 playground\, park where you can in any of the carparks.  Start and finish
  will be close to registration.\nSafety Notes\nALL competitors MUST downlo
 ad their times at registration even if they don't finish the course.  Oth
 erwise someone will be out looking for you unnecessarily.\n\nThere will be
  lots of other park users about so mind the traffic around the carpark and
  access roads.\n\nThe park is also popular with mountain bikers\, so take 
 care when crossing or using bike tracks.\n\nSome steep slopes are particul
 arly slippery\, and some localised areas have very dense undergrowth so ma
 ke sure you come prepared\, and take care when you're out there.  Carryin
 g a whistle would be recommended for the green course\, but not compulsory
  (unless the weather dictates!!)\nNewcomers\nYou are welcome to join us ev
 en if you are not a member of the club.  Club members will be available t
 o offer advice and assistance\, just ask at registration.  (Note : for in
 surance purposes you may attend two events as a non-club member but after 
 that you need to join an orienteering club).\nSocial\nIf you want to meet 
 up afterwards to compare routes and put a face to some of those facebook n
 ames\, why not try the cafe in the Castle\, or just hang about registratio
 n for a chat afterwards.\n\nFor more information on other things to see in
  the park go to  https://visitbelfast.com/see-do/partners/belfast-castle
 -estate-cave-hill-visitor-centre\nEvent Team\n\n 	Organiser - Ann Savage\n
  	Planner - Colin Smith\n 	Controller - Richard Williamson\n\n
CATEGORIES:LVO Fixtures,Spring Cup
LOCATION:Belfast Castle\, Antrim Road\, Belfast\, BT15 5GR\, Northern Irela
 nd
GEO:54.6427347647557;-5.942080125439588
X-APPLE-STRUCTURED-LOCATION;VALUE=URI;X-ADDRESS=Antrim Road\, Belfast\, BT1
 5 5GR\, Northern Ireland;X-APPLE-RADIUS=100;X-TITLE=Belfast Castle:geo:54.
 6427347647557,-5.942080125439588
END:VEVENT
BEGIN:VTIMEZONE
TZID:Europe/London
X-LIC-LOCATION:Europe/London
BEGIN:STANDARD
DTSTART:20181028T010000
TZOFFSETFROM:+0100
TZOFFSETTO:+0000
TZNAME:GMT
END:STANDARD
END:VTIMEZONE
END:VCALENDAR