BEGIN:VCALENDAR
VERSION:2.0
PRODID:-//wp-events-plugin.com//6.6.4.4//EN
TZID:Europe/London
X-WR-TIMEZONE:Europe/London
BEGIN:VEVENT
UID:0-554@lvo.org.uk
DTSTART;TZID=Europe/London:20230201T200000
DTEND;TZID=Europe/London:20230201T210000
DTSTAMP:20230130T144539Z
URL:https://lvo.org.uk/allfixtures/si-timing-training/
SUMMARY:Si Timing Training
DESCRIPTION:Intro and refresher to the SI Timing system. \n\nThis is a gre
 at opportunity to learn about some of the the ins and outs of Si Timing sy
 stem and our LVO laptops with our resident expert\, Mark Pruzina.\n\nThis 
 1-hour webinar will upskill you to be able to use the laptops to manage th
 e likes of entries and downloads.\n\nSo\, if you are not the most familiar
  with the set up and are hoping to organise some training or events this y
 ear\, this is the course for you.\n\nFor those who want more - there will 
 be the opportunity for further training following from this introduction.\
 n\nWhen: Wed 1 Feb\, 8-9pm\n\nRegister with Juls at: rdo@niorienteering.or
 g.uk\n\n&nbsp\;
CATEGORIES:Training
END:VEVENT
BEGIN:VTIMEZONE
TZID:Europe/London
X-LIC-LOCATION:Europe/London
BEGIN:STANDARD
DTSTART:20221030T010000
TZOFFSETFROM:+0100
TZOFFSETTO:+0000
TZNAME:GMT
END:STANDARD
END:VTIMEZONE
END:VCALENDAR