BEGIN:VCALENDAR
VERSION:2.0
PRODID:-//wp-events-plugin.com//6.6.4.4//EN
TZID:Europe/London
X-WR-TIMEZONE:Europe/London
BEGIN:VEVENT
UID:0-341@lvo.org.uk
DTSTART;TZID=Europe/London:20190501T183000
DTEND;TZID=Europe/London:20190501T201500
DTSTAMP:20190425T145657Z
URL:https://lvo.org.uk/allfixtures/pre-wee-training/
SUMMARY:Pre-WEE Training
DESCRIPTION:As a warm-up for the 2019 WEE season\, there will be a Pre-WEE 
 Coaching Evening on Wed 1 May in Ormeau Park. The club will offer 3 levels
  of coaching - Level 1 for absolute beginners who have never been to a WEE
 \; Level 2 for those that have attended one or 2 WEEs or equivalent and wo
 uld like to develop their basic skills\; Level 3 for more experienced orie
 nteers which will offer an opportunity to refresh and practise many of the
  basic skills and techniques that may have been rusting over the winter.\n
 \nLevels 1 and 2 will run twice each for 45 minutes\, starting at 6.30pm a
 nd 7.15pm\n\nLevel 3 will be available between 6.30pm and 7.30 pm for indi
 vidual starts.\n\nPlease be at Ormeau Park main car park at least 15 minut
 es before the session you would like to attend so that we can register you
  and direct you to the start point. The cost will be £2 each to cover map
  costs. You will need footwear suitable for running (even if you plan only
  to walk!).\n\nAny queries to philip@niorienteering.org.uk\n\nThe WEE Seas
 on proper starts the following week on 8 May in Orangefield Park\; we look
  forward to seeing you all there.
CATEGORIES:LVO Fixtures,Training
LOCATION:Ormeau Park\, Ormeau Embankment\, Belfast\, Northern Ireland
GEO:54.589048;-5.916391
X-APPLE-STRUCTURED-LOCATION;VALUE=URI;X-ADDRESS=Ormeau Embankment\, Belfast
 \, Northern Ireland;X-APPLE-RADIUS=100;X-TITLE=Ormeau Park:geo:54.589048,-
 5.916391
END:VEVENT
BEGIN:VTIMEZONE
TZID:Europe/London
X-LIC-LOCATION:Europe/London
BEGIN:DAYLIGHT
DTSTART:20190331T020000
TZOFFSETFROM:+0000
TZOFFSETTO:+0100
TZNAME:BST
END:DAYLIGHT
END:VTIMEZONE
END:VCALENDAR