BEGIN:VCALENDAR
VERSION:2.0
PRODID:-//wp-events-plugin.com//6.6.4.4//EN
TZID:Europe/London
X-WR-TIMEZONE:Europe/London
BEGIN:VEVENT
UID:0-555@lvo.org.uk
DTSTART;TZID=Europe/London:20230208T190000
DTEND;TZID=Europe/London:20230208T210000
DTSTAMP:20230130T145626Z
URL:https://lvo.org.uk/allfixtures/planning-course-beginners-improvers/
SUMMARY:Planning Course 1 - Beginners &amp\; Improvers!
DESCRIPTION: Planning Course \n\nDo you want to learn to plan courses for 
 your club? Have you already had a go and want to improve your skills? Join
  us!\n\nTwo  progressive evening workshops for beginner and improver plan
 ners.\n\nPerfect for WEE series planners and larger event assistant planne
 rs. If planning a WEE\, you can ‘pick your park’ to suit you and we w
 ill support you throughout the entire process \n\nWhen? Wed 8 and Wed 22 F
 ebruary. 7:00 - 9:00pm\nWhere: Hillsborough Village Centre\n\nSpaces limit
 ed\, email rdo@niorienteering.org.uk to book 
CATEGORIES:Training
LOCATION:Hillsborough Village Centre\, 7 Ballynahinch Road\, Hillsborough\,
  Down\, BT26 6AR\, Northern Ireland
GEO:54.464879;-6.080725
X-APPLE-STRUCTURED-LOCATION;VALUE=URI;X-ADDRESS=7 Ballynahinch Road\, Hills
 borough\, Down\, BT26 6AR\, Northern Ireland;X-APPLE-RADIUS=100;X-TITLE=Hi
 llsborough Village Centre:geo:54.464879,-6.080725
END:VEVENT
BEGIN:VTIMEZONE
TZID:Europe/London
X-LIC-LOCATION:Europe/London
BEGIN:STANDARD
DTSTART:20221030T010000
TZOFFSETFROM:+0100
TZOFFSETTO:+0000
TZNAME:GMT
END:STANDARD
END:VTIMEZONE
END:VCALENDAR