BEGIN:VCALENDAR
VERSION:2.0
PRODID:-//wp-events-plugin.com//6.6.4.4//EN
TZID:Europe/London
X-WR-TIMEZONE:Europe/London
BEGIN:VEVENT
UID:0-333@lvo.org.uk
DTSTART;TZID=Europe/London:20191215T140000
DTEND;TZID=Europe/London:20191215T150000
DTSTAMP:20191217T204117Z
URL:https://lvo.org.uk/allfixtures/ocoul-7/
SUMMARY:OCOUL 7
DESCRIPTION:\n\nAnd so sadly we have reached our last event of the year and
  the final race in NI's first Urban league\, and what an event it promises
  to be with most classes still up for grabs and one awaiting a stewards in
 quiry for some potential foul play. #blackmagic\n\nIn the men's open any o
 ne of 5 could still win so avoiding all the traps could reap dividends.\n\
 nIf you've enjoyed the series so far\, why not come and finish off the yea
 r in style.\n\n\nIf you're wondering what on earth i'm on about\, then cle
 ar your Sunday afternoon and come and join in the festivities and see what
  you've been missing.\n\nIt all kicks off at 2 and is followed by prize gi
 ving and Christmas cheer.\n\nWhat is it : Middle Distance Urban.\n\nThere 
 will be three courses on offer so everyone is catered for whatever your ab
 ility and experience\, be it complete beginner or NI Champion.\n\n\n1. OPE
 N : over 16's only if unaccompanied. Under 16's can do this course if acco
 mpanied by an adult.\n\n2. YOUTH &amp\; NOVICE or GCSE Orienteering : For 
 13-15 year old's who wish to run unaccompanied\, and adult beginners / nov
 ices.\n\n3. JUNIOR &amp\; BEGINNERS : For young kids under 13 and all fami
 ly beginners. This will be a great fun event for you.\n\nPARKING &amp\; RE
 GISTRATION : Main Car Park\, The Royal School\, College Hill\, Armagh.\n\n
 Event fees:\nWith pre-registration\, either by Facebook or website comment
 \, messenger\, or email up to the Friday night before the event\, stating 
 name and course :\nIndividual Adult run : £ 7.00\nUnwaged / student : £ 
 5.00\nUnder 18 / all kids / a family group run with kids : £ 3.00.\nEntry
  on the day: £1 surcharge.\n\nRegistration from 13:45\nStarts : 14:00 –
  15:00\nCourses close : 16:15\n\nWhat better way to end the season. See yo
 u on Sunday week.\n\n&nbsp\;
LOCATION:Armagh\, Royal School\, College Hill\, Armagh\, BT61 9DH\, Norther
 n Ireland
GEO:54.3521113;-6.646470399999998
X-APPLE-STRUCTURED-LOCATION;VALUE=URI;X-ADDRESS=College Hill\, Armagh\, BT6
 1 9DH\, Northern Ireland;X-APPLE-RADIUS=100;X-TITLE=Armagh\, Royal School:
 geo:54.3521113,-6.646470399999998
END:VEVENT
BEGIN:VTIMEZONE
TZID:Europe/London
X-LIC-LOCATION:Europe/London
BEGIN:STANDARD
DTSTART:20191027T010000
TZOFFSETFROM:+0100
TZOFFSETTO:+0000
TZNAME:GMT
END:STANDARD
END:VTIMEZONE
END:VCALENDAR