BEGIN:VCALENDAR
VERSION:2.0
PRODID:-//wp-events-plugin.com//6.6.4.4//EN
TZID:Europe/London
X-WR-TIMEZONE:Europe/London
BEGIN:VEVENT
UID:0-330@lvo.org.uk
DTSTART;TZID=Europe/London:20190818T140000
DTEND;TZID=Europe/London:20190818T163000
DTSTAMP:20190824T102703Z
URL:https://lvo.org.uk/allfixtures/ocoul-4/
SUMMARY:OCOUL 4  &amp\;  OCO - Fun in the Sun #4
DESCRIPTION:\n\nOur Fun in the Sun summer season meets Urban League:\nOCOUL
  4 : The middle event in NI’s first Urban Orienteering League:\n\nThe fo
 rmat – Middle Distance Urban – no nettles or brambles (unless you seek
  them out)\, little mud\, and you can show off your legs if you wish. FUN 
 and SUITABLE FOR EVERYONE.\n\nDETAILS\nCourses: There will be three course
 s on offer so everyone is catered for whatever your ability and experience
 \, be it complete beginner or NI Champion.\nFor the competition: 3 differe
 nt classes: 12 &amp\; under\, under 16’s\, and Open\, each split M/F wit
 h age class adjusted results so everyone starts on a level playing field. 
 If you're interested\, all you ladies are being compared to Charlotte Ward
 \, and all you gents to Graham Gristwood and Oystein Kvaal Osterbo so we'l
 l see if we have any future stars in our midsts.\n\n1. OPEN : over 16's on
 ly if unaccompanied. Under 16's can do this course only if accompanied by 
 an adult.\n\n2. YOUTH &amp\; NOVICE : For 13-15 year old's who wish to run
  unaccompanied\, and adult beginners / novices.\n\n3. JUNIOR &amp\; BEGINN
 ERS : For young kids under 13 and all family beginners. All good fun and a
 n introduction to Urban Orienteering: All within the safe confines of Crai
 gavon Lakes with no roads to cross.\n\nPARKING : Craigavon Civic Centre. N
 B the site closes at 5 p.m.\n\nFacilities : There are limited toilet facil
 ities so it might be an idea to use those at Rushmere Shopping Centre\, pr
 ior to arrival.\n\nDogs : Sorry no dogs are allowed on the courses at this
  event because of the areas that are being used.\n\nEvent fees:\nWith pre-
 registration\, either by Facebook or website comment\, messenger\, or emai
 l up to the Friday night before the event\, stating name and course :\nAdu
 lt run : £ 7.00\nUnwaged / student : £ 5.00\nUnder 18 / all kids : £ 3.
 00\nFamily ( 2 adults and 2 or more children each doing their own course )
  : £ 17.00\n\nEntry on the day :\n£ 1 surcharge per adult\, unwaged / st
 udent\, or child\n£ 3 surcharge for family entries.\n\nRegistration from 
 14:00\nStarts : 14:00 – 15:00\nCourses close : 16:30
LOCATION:Craigavon Lakes\, Craigavon Civic Centre\, Craigavon\, Northern Ir
 eland
GEO:54.44998320000001;-6.3863567999999304
X-APPLE-STRUCTURED-LOCATION;VALUE=URI;X-ADDRESS=Craigavon Civic Centre\, Cr
 aigavon\, Northern Ireland;X-APPLE-RADIUS=100;X-TITLE=Craigavon Lakes:geo:
 54.44998320000001,-6.3863567999999304
END:VEVENT
BEGIN:VTIMEZONE
TZID:Europe/London
X-LIC-LOCATION:Europe/London
BEGIN:DAYLIGHT
DTSTART:20190331T020000
TZOFFSETFROM:+0000
TZOFFSETTO:+0100
TZNAME:BST
END:DAYLIGHT
END:VTIMEZONE
END:VCALENDAR