BEGIN:VCALENDAR
VERSION:2.0
PRODID:-//wp-events-plugin.com//6.6.4.4//EN
TZID:Europe/London
X-WR-TIMEZONE:Europe/London
BEGIN:VEVENT
UID:0-329@lvo.org.uk
DTSTART;TZID=Europe/London:20190616T140000
DTEND;TZID=Europe/London:20190616T163000
DTSTAMP:20190619T124414Z
URL:https://lvo.org.uk/allfixtures/ocoul-3/
SUMMARY:OCOUL 3
DESCRIPTION:The third event of NI’s first Urban Orienteering League:\n\nT
 he format – Middle Distance Urban – no nettles or brambles (unless you
  seek them out)\, little mud\, and you can show off your legs if you wish.
  FUN and SUITABLE FOR EVERYONE.\n\nDETAILS:\n\nCourses: There will be thre
 e courses on offer so everyone is catered for whatever your ability and ex
 perience\, be it complete beginner or NI Champion.\nFor the competition: 3
  different classes: 12 &amp\; under\, under 16’s\, and Open\, each split
  M/F with age class adjusted results so everyone starts on a level playing
  field. If you're interested\, all you ladies are being compared to Charlo
 tte Ward\, and all you gents to Graham Gristwood and Oystein Kvaal Osterbo
  so we'll see if we have any future stars in our midsts.\n\n1. OPEN : over
  16's only if unaccompanied. Under 16's can do this course if accompanied 
 by an adult.\n\n2. YOUTH &amp\; NOVICE : For 13-15 year old's who wish to 
 run unaccompanied\, and adult beginners / novices.\n\n3. JUNIOR &amp\; BEG
 INNERS : For young kids under 13 and all family beginners. This will be a 
 great fun event for you: All within the safe confines of Edenvilla and no 
 roads to cross.\n\nPARKING : Edenvilla Park Multi-Sports Pitch Car Park\, 
 Bachelor's Walk. Please note this is not our usual car park but the large 
 one by the hockey pitch.\n\nFacilities : There are limited toilet faciliti
 es so it might be an idea to use those at Rushmere Shopping Centre\, Tesco
 's\, or Asda\, Portadown\, prior to arrival.\n\nDogs : Sorry no dogs are a
 llowed on the courses at this event because of the areas that are being us
 ed.\n\nEvent fees:\nWith pre-registration\, either by Facebook or website 
 comment\, messenger\, or email up to the Friday night before the event\, s
 tating name and course :\nAdult : £ 7.00\nUnwaged / student : £ 5.00\nUn
 der 18 / all kids : £ 3.00\nFamily ( 2 adults and 2 or more children each
  doing their own course ) : £ 17.00\n\nEntry on the day :\n£ 1 surcharge
  per adult\, unwaged / student\, or child\n£ 3 surcharge for family entri
 es.\n\nRegistration from 13:45\nStarts : 14:00 – 15:30\nCourses close : 
 16:30
LOCATION:Edenvilla Park\, Bachelors Walk\, Portadown\, Armagh\, BT63 5BQ\, 
 Northern Ireland
GEO:54.4294045;-6.4269985999999335
X-APPLE-STRUCTURED-LOCATION;VALUE=URI;X-ADDRESS=Bachelors Walk\, Portadown\
 , Armagh\, BT63 5BQ\, Northern Ireland;X-APPLE-RADIUS=100;X-TITLE=Edenvill
 a Park:geo:54.4294045,-6.4269985999999335
END:VEVENT
BEGIN:VTIMEZONE
TZID:Europe/London
X-LIC-LOCATION:Europe/London
BEGIN:DAYLIGHT
DTSTART:20190331T020000
TZOFFSETFROM:+0000
TZOFFSETTO:+0100
TZNAME:BST
END:DAYLIGHT
END:VTIMEZONE
END:VCALENDAR