BEGIN:VCALENDAR
VERSION:2.0
PRODID:-//wp-events-plugin.com//6.6.4.4//EN
TZID:Europe/London
X-WR-TIMEZONE:Europe/London
BEGIN:VEVENT
UID:0-318@lvo.org.uk
DTSTART;TZID=Europe/London:20190331T140000
DTEND;TZID=Europe/London:20190331T163000
DTSTAMP:20190406T153124Z
URL:https://lvo.org.uk/allfixtures/ocoul-1/
SUMMARY:OCOUL 1
DESCRIPTION:\nFINAL DETAILS for Sundays event:\n\nThe opening event of NI
 ’s first Urban Orienteering League:\n\nThe format – Middle Distance Ur
 ban – no nettles or brambles (unless you seek them out)\, little mud\, a
 nd you can show off your legs if you wish.\n\nCourses: There will be three
  courses on offer so everyone is catered for whatever your ability and exp
 erience\, be it complete beginner or NI Champion.\nFor the competition: 3 
 different classes: 12 &amp\; under\, under 16’s\, and Open\, each split 
 M/F with age class adjusted results so everyone starts on a level playing 
 field. If you're interested\, all you ladies are being compared to Charlot
 te Ward\, and all you gents to Graham Gristwood and Oystein Kvaal Osterb\,
 o so we'll see if we have any future stars in our midsts.\n\n1. OPEN ( ove
 r 16's only if unaccompanied. Under 16's can do this course if accompanied
  by an adult ) : 4.2 km as the crow flies!!! It will be an A3 map\, with 3
 0 controls. The course will cross several roads\, but there are no mandato
 ry crossings. All the roads have good visibility with diagonal legs and ar
 e relatively quiet on a sunday afternoon.\n\n2. YOUTH &amp\; NOVICE : For 
 13-15 year old's who wish to run unaccompanied\, and adult beginners / nov
 ices : 3.1 km as the crow flies! Your course takes part in a quiet estate 
 before returning to the park via one MANDATORY\, TIMED-OUT road crossing. 
 You will be allowed two minutes to cross a road between controls. It can e
 asily be walked in 90 seconds\, so no-one should lose any time.\n\n3. JUNI
 OR &amp\; BEGINNERS : For young kids under 13 and all family beginners\; y
 ou get to play in the safe environment of the People’s Park. There will 
 be three controls outside the Park but no-one needs to cross any roads!!! 
 2.2 km.\n\nFor all courses the GAA / American Football pitch will be Out o
 f Bounds and is marked as such on the map.\n\nAll maps will also contain o
 ne enlargement of a small section of the map to help with legibility.\n\nS
 TARTS:\nThere will be two starts. The JUNIOR start will be adjacent to reg
 istration and the finish by the Park Pavilion.\n\nThe OPEN and YOUTH cours
 e will use Start 2. This is a 750m walk from the park. It is an 8 minute w
 alk\, and will be a taped route though a residential estate. There will be
  no clothing transfer\, but the forecast looks reasonable so we shouldn't 
 need one.\n\nParking : The People's park car park. When i sorted out the d
 ate for this event i was told parking will be fine! But i was down there l
 ast sunday for a final run round and struggled to park in the park because
  of american football. If the car park is full please park on the road out
 side the park.\n\nFacilities : Registration will be right next to the Park
  Pavilion. it is equipped with toilets and last week there was a handy ice
  cream van nearby.\n\nDogs are allowed but would need to be on a lead beca
 use of the environment you will be in.\n\nEvent fees:\nWith pre-registrati
 on\, either by Facebook or website comment\, messenger\, or email up to th
 e Monday night before the event\, stating name\, class and course :\nAdult
  : £ 7.00\nUnwaged / student : £ 5.00\nUnder 18 : £ 3.00\nFamily ( 2 ad
 ults and 2 or more children each doing their own course ) : £ 17.00\n\nEn
 try on the day\, dependent upon spare maps. We will have plenty available 
 but don't turn up too late just in case :\n£ 1 surcharge per adult\, unwa
 ged / student\, or child\n£ 3 surcharge for family entries.\n\nRegistrati
 on from 13.30\nStarts : 14:00 – 15:30\nCourses close : 16:30
LOCATION:Portadown People's Park\, Park Road\, Portadown\, BT62 1ED\, North
 ern Ireland
GEO:54.4257769;-6.4450166999999965
X-APPLE-STRUCTURED-LOCATION;VALUE=URI;X-ADDRESS=Park Road\, Portadown\, BT6
 2 1ED\, Northern Ireland;X-APPLE-RADIUS=100;X-TITLE=Portadown People's Par
 k:geo:54.4257769,-6.4450166999999965
END:VEVENT
BEGIN:VTIMEZONE
TZID:Europe/London
X-LIC-LOCATION:Europe/London
BEGIN:DAYLIGHT
DTSTART:20190331T020000
TZOFFSETFROM:+0000
TZOFFSETTO:+0100
TZNAME:BST
END:DAYLIGHT
END:VTIMEZONE
END:VCALENDAR