BEGIN:VCALENDAR
VERSION:2.0
PRODID:-//wp-events-plugin.com//6.6.4.4//EN
TZID:Europe/London
X-WR-TIMEZONE:Europe/London
BEGIN:VEVENT
UID:0-340@lvo.org.uk
DTSTART;TZID=Europe/London:20190317T140000
DTEND;TZID=Europe/London:20190317T160000
DTSTAMP:20190313T182048Z
URL:https://lvo.org.uk/allfixtures/oco-st-patricks-day-score-event/
SUMMARY:OCO St. Patrick's Day Score Event
DESCRIPTION:https://www.facebook.com/events/1848913728547640/?active_tab=di
 scussion
LOCATION:Gosford Forest\, Gosford Forest\, Markethill\,  BT60 1GD\, Norther
 n Ireland
GEO:54.30365450000001;-6.522917600000028
X-APPLE-STRUCTURED-LOCATION;VALUE=URI;X-ADDRESS=Gosford Forest\, Markethill
 \,  BT60 1GD\, Northern Ireland;X-APPLE-RADIUS=100;X-TITLE=Gosford Forest:
 geo:54.30365450000001,-6.522917600000028
END:VEVENT
BEGIN:VTIMEZONE
TZID:Europe/London
X-LIC-LOCATION:Europe/London
BEGIN:STANDARD
DTSTART:20181028T010000
TZOFFSETFROM:+0100
TZOFFSETTO:+0000
TZNAME:GMT
END:STANDARD
END:VTIMEZONE
END:VCALENDAR