BEGIN:VCALENDAR
VERSION:2.0
PRODID:-//wp-events-plugin.com//6.6.4.4//EN
TZID:Europe/London
X-WR-TIMEZONE:Europe/London
BEGIN:VEVENT
UID:0-347@lvo.org.uk
DTSTART;TZID=Europe/London:20190915T140000
DTEND;TZID=Europe/London:20190915T143000
DTSTAMP:20190729T201003Z
URL:https://lvo.org.uk/allfixtures/oco-fun-in-the-sun-6/
SUMMARY:OCO - Fun in the Sun #6
DESCRIPTION:Full details on OCO facebook page\n\nhttps://www.facebook.com/o
 rchardcountyorienteers\n\n
LOCATION:Loughall Country Park\, Main Street\, Loughall\, BT61 8HZ\, Northe
 rn Ireland
GEO:54.410116;-6.601154400000041
X-APPLE-STRUCTURED-LOCATION;VALUE=URI;X-ADDRESS=Main Street\, Loughall\, BT
 61 8HZ\, Northern Ireland;X-APPLE-RADIUS=100;X-TITLE=Loughall Country Park
 :geo:54.410116,-6.601154400000041
END:VEVENT
BEGIN:VTIMEZONE
TZID:Europe/London
X-LIC-LOCATION:Europe/London
BEGIN:DAYLIGHT
DTSTART:20190331T020000
TZOFFSETFROM:+0000
TZOFFSETTO:+0100
TZNAME:BST
END:DAYLIGHT
END:VTIMEZONE
END:VCALENDAR