BEGIN:VCALENDAR
VERSION:2.0
PRODID:-//wp-events-plugin.com//6.6.4.4//EN
TZID:Europe/London
X-WR-TIMEZONE:Europe/London
BEGIN:VEVENT
UID:0-364@lvo.org.uk
DTSTART;TZID=Europe/London:20190924T190000
DTEND;TZID=Europe/London:20190924T193000
DTSTAMP:20190916T204448Z
URL:https://lvo.org.uk/allfixtures/o-fun/
SUMMARY:OCO - Sporteering Fun
DESCRIPTION:Meeting at the main entrance to the Rushmere Shopping Centre  
 at 7pm to jog out to the start location.\n\nUrban score orienteering. 1 ho
 ur time limit\, with points lost per minute late. There is no flag nor SI 
 unit at the control location. You verify visiting the control site with th
 e Sporteering app.\n\nSo what do you need?\n\n 	A iPhone or Android mobile
  phone with a location function\n 	The location function turned on\n 	The 
 "Sporteering" app already downloaded\n 	A Sporteering account already crea
 ted. (If you have problems within the app\, do it at www.sporteering.com)\
 n 	Hi viz highly recommended\n 	An armband to carry your phone recommended
 \n 	Under 16s must be accompanied by an adult.\n 	A headtorch with charged
  batteries\n 	A control description holder - optional\n 	Phone fully charg
 ed\n 	Unnecessary apps closed. (This will probably speed up the location f
 unction)\n 	Display setting set to always on\n 	£3 for members\, £4 for 
 non-members\n 	Some ££ for a cafe afterwards.\n\nSee also\n\nhttps://www
 .facebook.com/orchardcountyorienteers/
CATEGORIES:LVO Fixtures,Training
LOCATION:Craigavon - Rushmere Centre\, Rushmere Shopping Centre\, Craigavon
 \, BT64 1AA\, United Kingdom
GEO:54.4493543;-6.392157300000008
X-APPLE-STRUCTURED-LOCATION;VALUE=URI;X-ADDRESS=Rushmere Shopping Centre\, 
 Craigavon\, BT64 1AA\, United Kingdom;X-APPLE-RADIUS=100;X-TITLE=Craigavon
  - Rushmere Centre:geo:54.4493543,-6.392157300000008
END:VEVENT
BEGIN:VTIMEZONE
TZID:Europe/London
X-LIC-LOCATION:Europe/London
BEGIN:DAYLIGHT
DTSTART:20190331T020000
TZOFFSETFROM:+0000
TZOFFSETTO:+0100
TZNAME:BST
END:DAYLIGHT
END:VTIMEZONE
END:VCALENDAR