BEGIN:VCALENDAR
VERSION:2.0
PRODID:-//wp-events-plugin.com//6.6.4.4//EN
TZID:Europe/London
X-WR-TIMEZONE:Europe/London
BEGIN:VEVENT
UID:0-391@lvo.org.uk
DTSTART;TZID=Europe/London:20210724T110000
DTEND;TZID=Europe/London:20210724T123000
DTSTAMP:20210724T205641Z
URL:https://lvo.org.uk/allfixtures/ni-sprint-champs-21/
SUMMARY:NI Sprint Championship
DESCRIPTION:Lagan Valley Orienteers invite you to Jordanstown for the NIOA 
 Sprint Championship 2021.\nLatest Event Details\nDirections and Car parkin
 g\n\n 	From Belfast take the M2\, keep right at the fork to continue M5 an
 d follow signs for Whiteabbey/Carrickfergus. At Rushpark Roundabout\, take
  the 2nd exit onto A2\, leading onto Shore Rd/A2. At the lights opposite L
 oughshore Park\, turn left up the Jordanstown Road.\n 	Please enter UUJ th
 rough the Jordanstown Road entrance and not the main Shore Road Entrance.\
 n 	Follow signage to park in Car Park 2\, located towards the accommodatio
 n block (if it is full or unavailable\, use Car Park 1 at the rear of main
  building).\n 	We have been informed that car parking is free at weekends.
 \n 	\n\nCourse Safety\n\n 	Accommodation blocks have been in use the past 
 few weekends for tourists and athletes\, so watch out for any vehicles and
  pedestrians around the student village.\n 	Please watch where you're goin
 g when running around blind corners. All courses/classes overlap the same 
 site\, and runners of all ages may be approaching controls and corners fro
 m opposing directions.\n 	Water – There will be no water suppled at thes
 e events so please bring your own drinks and be sure to stay well hydrated
  – especially if the weather is as hot as it has been for the past coupl
 e of weeks.\n\nToilets - The toilets in the UUJ sports centre are open for
  use by participants.\n\nEntries\n\nPre-entry is required. Entries is via 
 SI Entries (entries close on Thursday 22nd July 2021 at 19:00). The entry 
 link covers both the Sprint and Middle distance Championships\, which are 
 being held on the same day and are located close to each other.\n\n\n\n \
 nMember\n\nOne Event\nMember\n\nTwo Events\nNon -Member\n\nOne Event\nNon 
 -Member\n\nTwo Events\n\n\nSenior (aged 21 or over)\n£10\n£16\n£12\n£1
 8\n\n\nJunior or Student\n£5\n£8\n£6\n£9\n\n\nMaximum charge for a fam
 ily*\n£25\n£40\n£30\n£45\n\n\n\n*If you are entering a family and it c
 omes to more than the rates in the bottom row then please contact the orga
 niser after you have paid for the individual Senior\, or Junior/Student en
 tries and we will arrange a refund of the difference. Parents accompanying
  children go free. If you enter both events you will get a series discount
 .\nCOVID\nPlease note carefully the COVID measures described in the online
  entry form.\nStart Windows\nTo reduce the congregation of people at the s
 tart there are start windows of 15 minutes. Please indicate which start wi
 ndow you prefer when entering. Starts are from 11:00 to 12:30.\nRegistrati
 on\nRegistration is not required if using your own SI Card - proceed direc
 tly to start. Hire cards can be collected from the Organiser at the downlo
 ad car.\nCourses\n\n\n\n\nCourse\n\n\nFemale Class\n\n\nMale Class\n\n\nDi
 stance (provisional)\n\n\n\n\n1\n\n\nM Open\n2.9 km\n\n\n\n2\n\nW Open\nm 
 40+\n2.2 km\n\n\n\n3\n\nw 40+\nM Super Vet 55+\n2.0 km\n\n\n\n4\n\nW Super
  Vet 55+\nM Ultra Vet 65+\n1.5 km\n\n\nW Ultra Vet 65+\n\n\n\n5\n\nW Junio
 r 16-\nM Junior 16-\n1.4 km\n\n\n\n6\n\nW Junior 12-\nM Junior 12-\n0.9 km
 \n\n\n\n&nbsp\;\nDibbers\nThe event will be SI Air enabled. SI timing card
  hire is free but lost cards are charged at a replacement cost of £30.\nO
 fficials\n\n 	Planner\, Conor McKernon\n 	Controller\, Billy Reed\n 	Organ
 iser\, Sharon Dickenson\n
CATEGORIES:Championships,LVO Fixtures,NI Fixtures
LOCATION:University of Ulster\, Jordanstown\, Shore road\, Jordanstown\, BT
 37 0QB\, Northern Ireland
GEO:54.686267;-5.882055
X-APPLE-STRUCTURED-LOCATION;VALUE=URI;X-ADDRESS=Shore road\, Jordanstown\, 
 BT37 0QB\, Northern Ireland;X-APPLE-RADIUS=100;X-TITLE=University of Ulste
 r\, Jordanstown:geo:54.686267,-5.882055
END:VEVENT
BEGIN:VTIMEZONE
TZID:Europe/London
X-LIC-LOCATION:Europe/London
BEGIN:DAYLIGHT
DTSTART:20210328T020000
TZOFFSETFROM:+0000
TZOFFSETTO:+0100
TZNAME:BST
END:DAYLIGHT
END:VTIMEZONE
END:VCALENDAR