BEGIN:VCALENDAR
VERSION:2.0
PRODID:-//wp-events-plugin.com//6.6.4.4//EN
TZID:Europe/London
X-WR-TIMEZONE:Europe/London
BEGIN:VEVENT
UID:0-283@lvo.org.uk
DTSTART;TZID=Europe/London:20191012T122000
DTEND;TZID=Europe/London:20191012T140000
DTSTAMP:20191016T200823Z
URL:https://lvo.org.uk/allfixtures/ni-open-orienteering-championships/
SUMMARY:NI Open Championships
DESCRIPTION:Welcome to the event page for the Northern Ireland Classic Orie
 nteering Championship.\n\n 	Final Details (added 9 Oct 2019)\n 	Bulletin 1
  v2 (v2 changes start of Sunday Score event to 12:00)\n 	Bulletin 1 (added
  Wed 19 Jul 2019)\n 	Entries are via Fabian 4.\n\n 	Enter here.\n 	View th
 e entry list here.\n\n\n\n&lt\;!--\n\n\n\nEntry fees\nEntry made by midnig
 ht Sunday 29 September 2019\nEntry made by midnight Friday 4 October 2019\
 n\n\nSenior\n£16.00\n£24.00\n\n\nStudent/Unwaged\n£12.00\n£18.00\n\n\n
 Junior\n£6.00\n£9.00\n\n\nFamily\n£38.00\n£57.00\n\n\nNon-championship
  colour coded courses*- Seniors and Juniors\n£6.00\n£9.00\n\n\nSenior no
 n-member supplement\n£2.00\n£3.00\n\n\nJunior non-member supplement\n£1
 .00\n£1.50\n\n\nNon-championship entry on the day colour coded courses**\
 n£10.00\n-\n\n\n\n*Courses offered: Yellow\, Orange\, and Light Green\n**
 Subject to map availability--&gt\;
CATEGORIES:Championships,NI Fixtures
LOCATION:Cassy Water\, Killfeaghan Road\, Rostrevor\, Northern Ireland
GEO:54.089335364176705;-6.128686908520535
X-APPLE-STRUCTURED-LOCATION;VALUE=URI;X-ADDRESS=Killfeaghan Road\, Rostrevo
 r\, Northern Ireland;X-APPLE-RADIUS=100;X-TITLE=Cassy Water:geo:54.0893353
 64176705,-6.128686908520535
END:VEVENT
BEGIN:VTIMEZONE
TZID:Europe/London
X-LIC-LOCATION:Europe/London
BEGIN:DAYLIGHT
DTSTART:20190331T020000
TZOFFSETFROM:+0000
TZOFFSETTO:+0100
TZNAME:BST
END:DAYLIGHT
END:VTIMEZONE
END:VCALENDAR