BEGIN:VCALENDAR
VERSION:2.0
PRODID:-//wp-events-plugin.com//6.6.4.4//EN
TZID:Europe/London
X-WR-TIMEZONE:Europe/London
BEGIN:VEVENT
UID:0-715@lvo.org.uk
DTSTART;TZID=Europe/London:20271023T110000
DTEND;TZID=Europe/London:20271023T153000
DTSTAMP:20240426T135222Z
URL:https://lvo.org.uk/allfixtures/ni-colour-series-6-27/
SUMMARY:NI Colour Series 6 (Date TBC)
DESCRIPTION:\n\n\nDate\nSaturday 23 October 2027 (Date TBC)\n\n\nVenue\nGle
 nariff\n\n\nEvent Format\nNorthern Ireland Colour Series 6\n\n\nOnline Ent
 ry\n.\n\n\nSI Entries\n \n\n\nOnline Entry closes\nMidnight\, Monday 18 Oc
 tober 2027\n\n\nRegistration\, Start and Finish\nTBC\n\n\nPrice\n\n\n\n\nR
 ace Prices\nMember*\nNon-Member\n\n\nSenior (aged 21 or over)\n10\n12\n\n\
 nJunior or Student\n5\n6\n\n\nMaximum charge for a family**\n25\n30\n\n\n\
 nSociable group / family fee where all are going round a course together 
 – entry fee is per required number of maps i.e. one entry = one map.\n\n
 *Member of BOF Clubs only. Get Annual Membership today and experience the 
 membership benefits including the member rate!\n\nThere is no fee to hire 
 an SI card if required\, but lost cards are charged at £30.\n\n\nTerrain 
 Summary\nTBC\n\n\nPrevious Maps/Routegadget\nTBC\n\n\nCourse Notes\n⚪ Wh
 ite – km + m climb – navigate along paths with few route choice decisi
 ons. Aimed at primary school aged newcomers.\n🟡 Yellow – km + m climb
  – along paths with more route choice decisions. Appropriate for newcome
 rs and younger juniors with some experience.\n🟠 Orange – km + m climb
  – skills needed to navigate away from paths and more route choice decis
 ions\, some compass skills are expected. Aimed at novice adults and improv
 ing juniors.\n🟢 Light Green – km + m climb – this course requires c
 onfident map reading and compass skills.\n🟢 Short Green – km + m clim
 b – this course is set at the highest technical difficulty but shorter t
 o attract those who may struggle with a longer physical course.\n🟢 Gree
 n – km + m climb – technically and reasonably physically demanding cou
 rse.\n🔵 Blue – km + m climb – technically and physically demanding 
 course.\n🟤 Brown – km + m climb – technical and very physically dem
 anding course.\n\n\nFirst Aid and Safety\nThere will be a first aid and a 
 qualified first aider available at registration. Registration is also a sa
 fe place for lost children to wait.\n\nPlease do not come to the event if 
 you are unwell.\n\nPlease bring and carry any medication you might need\, 
 especially inhalers and EpiPen’s.\n\nIf you come across an injured or il
 l person\, please stop\, help and get further help. There will likely be q
 ualified first aiders on the course who can stop to provide support.\n\nAl
 l participants must return to download\, whether they complete the course 
 or not. This is to account for all competitors\, ensuring everyone’s saf
 e return.\n\nCourses will close and controls collected in at 3pm sharp. If
  you are still out on the course at this time return to finish and downloa
 d immediately.\n\n\nKit requirements\nFull body cover is mandatory.\n\nA w
 histle (emergency alert is 6 loud blasts per minute) is mandatory.\n\nA wa
 terproof jacket may also be mandatory if the organisers decide the weather
  requires one\, so bring one along just in case.\n\n\nParking\nTBC\n\n\nTo
 ilets\nTBC\n\n\n\n&nbsp\;
LOCATION:Glenariff Forest Park\, Glenariffe Road\, Cargan\, County Antrim\,
  Northern Ireland
GEO:55.016488;-6.107324
X-APPLE-STRUCTURED-LOCATION;VALUE=URI;X-ADDRESS=Glenariffe Road\, Cargan\, 
 County Antrim\, Northern Ireland;X-APPLE-RADIUS=100;X-TITLE=Glenariff Fore
 st Park:geo:55.016488,-6.107324
END:VEVENT
BEGIN:VTIMEZONE
TZID:Europe/London
X-LIC-LOCATION:Europe/London
BEGIN:DAYLIGHT
DTSTART:20270328T020000
TZOFFSETFROM:+0000
TZOFFSETTO:+0100
TZNAME:BST
END:DAYLIGHT
END:VTIMEZONE
END:VCALENDAR