BEGIN:VCALENDAR
VERSION:2.0
PRODID:-//wp-events-plugin.com//6.6.4.4//EN
TZID:Europe/London
X-WR-TIMEZONE:Europe/London
BEGIN:VEVENT
UID:0-263@lvo.org.uk
DTSTART;TZID=Europe/London;VALUE=DATE:20190601
DTEND;TZID=Europe/London;VALUE=DATE:20190602
DTSTAMP:20191116T202629Z
URL:https://lvo.org.uk/allfixtures/ni-colour-series-6-2/
SUMMARY:NI CHAMPS - Sprint &amp\; Middle
DESCRIPTION:PLEASE NOTE :  This event is not run by Lagan Valley Orienteer
 s\, please check the NIOA website or the organising club website (NWOC) on
  the links below\, to confirm all dates and details.  If you find any err
 or with this page please leave a comment below.\n\nhttps://www.nwoc.info/e
 vents/ni-sprint-middle-distance-2019/\n\nhttps://www.niorienteering.org.uk
 /
CATEGORIES:Championships,NI Fixtures,Not LVO
LOCATION:University of Ulster\, Coleraine\, Cromore Road\, Coleraine\, Coun
 ty Londonderry\, BT52 1SA\, Northern Ireland
GEO:55.1493367;-6.676218000000063
X-APPLE-STRUCTURED-LOCATION;VALUE=URI;X-ADDRESS=Cromore Road\, Coleraine\, 
 County Londonderry\, BT52 1SA\, Northern Ireland;X-APPLE-RADIUS=100;X-TITL
 E=University of Ulster\, Coleraine:geo:55.1493367,-6.676218000000063
END:VEVENT
BEGIN:VTIMEZONE
TZID:Europe/London
X-LIC-LOCATION:Europe/London
BEGIN:DAYLIGHT
DTSTART:20190331T020000
TZOFFSETFROM:+0000
TZOFFSETTO:+0100
TZNAME:BST
END:DAYLIGHT
END:VTIMEZONE
END:VCALENDAR