BEGIN:VCALENDAR
VERSION:2.0
PRODID:-//wp-events-plugin.com//6.6.4.4//EN
TZID:Europe/London
X-WR-TIMEZONE:Europe/London
BEGIN:VEVENT
UID:0-265@lvo.org.uk
DTSTART;TZID=Europe/London;VALUE=DATE:20191026
DTEND;TZID=Europe/London;VALUE=DATE:20191027
DTSTAMP:20191116T200333Z
URL:https://lvo.org.uk/allfixtures/ni-colour-series-5-2/
SUMMARY:NI Colour Series 5 - FERMO
DESCRIPTION:PLEASE NOTE :  This event is not run by Lagan Valley Orienteer
 s\, please check the NIOA website or the organising club website (FERMO) o
 n the links below\, to confirm all dates and details.  If you find any er
 ror with this page please leave a comment below.\n\nhttps://www.niorientee
 ring.org.uk/\n\nhttps://fermoblog.wordpress.com/
CATEGORIES:NI Colour Series,NI Fixtures,Not LVO
LOCATION:Crossmurrin\, Marble Arch\, Florencecourt\, BT92 1EW\, Northern Ir
 eland
GEO:54.2585248;-7.813142999999968
X-APPLE-STRUCTURED-LOCATION;VALUE=URI;X-ADDRESS=Marble Arch\, Florencecourt
 \, BT92 1EW\, Northern Ireland;X-APPLE-RADIUS=100;X-TITLE=Crossmurrin:geo:
 54.2585248,-7.813142999999968
END:VEVENT
BEGIN:VTIMEZONE
TZID:Europe/London
X-LIC-LOCATION:Europe/London
BEGIN:DAYLIGHT
DTSTART:20190331T020000
TZOFFSETFROM:+0000
TZOFFSETTO:+0100
TZNAME:BST
END:DAYLIGHT
END:VTIMEZONE
END:VCALENDAR