BEGIN:VCALENDAR
VERSION:2.0
PRODID:-//wp-events-plugin.com//6.6.4.4//EN
TZID:Europe/London
X-WR-TIMEZONE:Europe/London
BEGIN:VEVENT
UID:0-479@lvo.org.uk
DTSTART;TZID=Europe/London:20211030T110000
DTEND;TZID=Europe/London:20211030T133000
DTSTAMP:20211102T191913Z
URL:https://lvo.org.uk/allfixtures/ni-colour-series-4-rostrevor-provisiona
 l-info/
SUMMARY:NI Colour Series 4 Rostrevor
DESCRIPTION:LVO are hosting the fourth event of the NI Colour Series in the
  upper reaches of Kilbroney forest and on the open hill above.\n\nThere wi
 ll be the usual coloured courses to suit all abilities and ages\, newcomer
 s and seasoned members alike.\n\nCar Parking\n\nThe Upper 'Cloughmore' car
  park should be used (GR J195174) where the Mobile Orienteering Office (MO
 O) will be situated for information/download. If you find yourselves sitti
 ng in a carpark with a playground / Synge and Byrne café / Cloughmore Cen
 tre\, YOU ARE IN THE WRONG CARPARK! You need to keep driving up the hill t
 hrough the forest\, following the one-way signs for ‘Forest Drive’ to 
 get to the very top carpark: https://goo.gl/maps/kWn6Koq3Y5iQo65W7\n\nCar
  parking is Free.\n\nToilets\n\nPublic toilet facilities are available at 
 the bottom car park.\n\nCourses\n\nUnfortunately this area does not suppor
 t a White course.\n\nYellow (Technical Difficulty 2) and Orange (TD3) cour
 ses will start and finish near the upper car park. These courses require m
 ap reading but not compass skills\; Light Green courses and above will req
 uire good confident navigation skills using a map and compass.\n\nLight Gr
 een\, Short Green\, Green\, Blue and Brown (TD4-5) courses will have a sep
 arate start - allow for a 20-25 min walk up the zig-zags from the car park
 .\n\n\n\nCourse\nLength\nHeight\nControls\n\n\nYellow\n1.5\n90\n8\n\n\nOra
 nge\n2.1\n120\n9\n\n\nLight Green\n3.2\n65\n12\n\n\nShort Green\n3.2\n50\n
 12\n\n\nGreen\n4.0\n100\n14\n\n\nBlue\n5.5\n195\n17\n\n\nBrown\n7.4\n250\n
 21\n\n\n\nTimings\n\nStart times 11.30 - 13.00 For Light Green to Brown Co
 urses\, allow for a 20-25 min walk from car park to start. \n\nCourses cl
 ose at 15.00.\n\nTerrain\n\nThis is a great area for orienteering over var
 ied terrain\, open hill and forest.\n\nAs fairly high up - on a good day y
 ou will enjoy great views of the southern Mournes\, down over Carlingford 
 Lough and across to the Cooley Peninsula\; but on a bad day you could see 
 nought.\n\nDue to the changeable nature of open mountain weather\, all par
 ticipants will be required to bring a whistle and a waterproof jacket and 
 wear full leg cover.\n\nBlue and Brown courses in particular will be physi
 cally demanding and if the mist comes in\, also very technical - you have 
 been warned!\n\nThe Yellow and Orange courses will not venture up in the o
 pen hill. There is an extensive path network in the area of these courses\
 , the main paths are marked but not some of the more recent smaller paths 
 made by walkers and bikers.\n\nWater\n\nPlease bring your own water and ma
 ke sure you are fully hydrated before starting.\n\nEntry Fees\n\n 	Juniors
  £6 (NIOA members £5)\n 	Seniors £12 (NIOA members £10)\n\nOnline Entr
 y\n\nEnter online here\; edit entries here\; entry list here.\n\nMaps\n\nO
 range and Yellow courses 1:5000\n\nOther Courses 1:10000
LOCATION:Kilbroney Park\, Rostrevor\, Shore Road\, Rostrevor\, BT34 3AA\, N
 orthern Ireland
GEO:54.0972851;-6.1904680999999755
X-APPLE-STRUCTURED-LOCATION;VALUE=URI;X-ADDRESS=Shore Road\, Rostrevor\, BT
 34 3AA\, Northern Ireland;X-APPLE-RADIUS=100;X-TITLE=Kilbroney Park\, Rost
 revor:geo:54.0972851,-6.1904680999999755
END:VEVENT
BEGIN:VTIMEZONE
TZID:Europe/London
X-LIC-LOCATION:Europe/London
BEGIN:DAYLIGHT
DTSTART:20210328T020000
TZOFFSETFROM:+0000
TZOFFSETTO:+0100
TZNAME:BST
END:DAYLIGHT
END:VTIMEZONE
END:VCALENDAR