BEGIN:VCALENDAR
VERSION:2.0
PRODID:-//wp-events-plugin.com//6.6.4.4//EN
TZID:Europe/London
X-WR-TIMEZONE:Europe/London
BEGIN:VEVENT
UID:0-264@lvo.org.uk
DTSTART;TZID=Europe/London;VALUE=DATE:20190824
DTEND;TZID=Europe/London;VALUE=DATE:20190825
DTSTAMP:20191116T202237Z
URL:https://lvo.org.uk/allfixtures/ni-colour-series-4-4/
SUMMARY:NI COLOUR SERIES 4  -  FERMO
DESCRIPTION:PLEASE NOTE :  This event is not run by Lagan Valley Orienteer
 s\, please check the NIOA website or the organising club website (FERMO) o
 n the links below\, to confirm all dates and details.  If you find any er
 ror with this page please leave a comment below.\n\nhttps://www.niorientee
 ring.org.uk/\n\nhttps://fermoblog.wordpress.com/
CATEGORIES:NI Colour Series,NI Fixtures,Not LVO
LOCATION:Gortalugany\, Swanlinbar Road\, Florencecourt\, Fermanagh\, Northe
 rn Ireland
GEO:54.21893463341587;-7.743284340606351
X-APPLE-STRUCTURED-LOCATION;VALUE=URI;X-ADDRESS=Swanlinbar Road\, Florencec
 ourt\, Fermanagh\, Northern Ireland;X-APPLE-RADIUS=100;X-TITLE=Gortalugany
 :geo:54.21893463341587,-7.743284340606351
END:VEVENT
BEGIN:VTIMEZONE
TZID:Europe/London
X-LIC-LOCATION:Europe/London
BEGIN:DAYLIGHT
DTSTART:20190331T020000
TZOFFSETFROM:+0000
TZOFFSETTO:+0100
TZNAME:BST
END:DAYLIGHT
END:VTIMEZONE
END:VCALENDAR