BEGIN:VCALENDAR
VERSION:2.0
PRODID:-//wp-events-plugin.com//6.6.4.4//EN
TZID:Europe/London
X-WR-TIMEZONE:Europe/London
BEGIN:VEVENT
UID:0-271@lvo.org.uk
DTSTART;TZID=Europe/London:20190406T113000
DTEND;TZID=Europe/London:20190406T130000
DTSTAMP:20190406T152538Z
URL:https://lvo.org.uk/allfixtures/ni-colour-series-2-lvo/
SUMMARY:NI COLOUR SERIES 2  -  LVO
DESCRIPTION:\n\nFirst of all folks\, anyone who can offer to help at this e
 vent will be welcomed with open arms! And you'll still get a run\, of cour
 se.\n\nNow that spring is here (really?) orienteering is heading to the hi
 lls! We’re off to beautiful Meelmore in the Mourne Mountains for the sec
 ond Northern Ireland Colour Series event of the year. Experienced competit
 ors will enjoy the challenging courses that Mark Stephens has planned on t
 his great orienteering terrain but remember there are courses too for all 
 ages and abilities. Newcomers are especially welcome.\n\nParking is at Mee
 lmore Lodge and there are toilets close to the car park. If you want a sho
 wer\, please drop a contribution into the honesty box at the MOO - I'm sur
 e Meelmore Lodge would appreciate it. There is also a cosy cafe where we c
 an meet up afterwards and enjoy a meal or a coffee. Meelmore Lodge always 
 welcomes orienteers (muddy feet and all) so please support them if you can
 .\n\nDogs are not allowed\, except in the immediate vicinity of Meelmore L
 odge.\n\n\n\nCourse\nLength\nClimb\n\n\nBrown\n6.5k\n210m\n\n\nBlue\n5.3k\
 n180m\n\n\nGreen\n3.7k\n170m\n\n\nShort Green\n2.9k\n140m\n\n\nLight Green
 \n2.6k\n85m\n\n\nOrange\n2.7k\n115m\n\n\nYellow\n1.7k\n80m\n\n\n\nRemember
  we're on exposed mountain and although the calendar says it's summer time
  the weather man says its winter. The mountain is extremely wet from this 
 week's rain and there is a lot of water in the streams and the Trassey riv
 er. Please choose a course that is appropriate to your experience.\n\nUnfo
 rtunately the nature of the terrain means we are not able to provide a Whi
 te course.\n\nThe Yellow course is on the open mountain. It does not stay 
 close to the wall as published earlier but it is on paths. Unfortunately t
 he mountain is not baby buggy friendly.\n\nThere is a 1k walk to the Start
 . The walk includes some rough ground so it might take you longer that you
  think.\n\nIt’s mandatory to carry a whistle (you can buy one at Registr
 ation). If this week's wintry weather persists you will be required to wea
 r a suitable weatherproof coat. Please bring one with you as a final decis
 ion will be made on the morning of the event.\n\n\n\n\nMember\nNon member\
 n\n\nSenior\n£8\n£10\n\n\nUnwaged / Student\n£6\n£8\n\n\nJunior\n£4\n
 £5\n\n\nFamily\n£20\n£25\n\n\nParking\n£1 per car\, collected at Regis
 tration\n\n\n\nLooking forward to seeing you all at Meelmore.\n\nHarry Bel
 l\, Organiser
CATEGORIES:Colours of Spring,NI Colour Series,NI Fixtures
LOCATION:Meelmore\, Trassey Road\, Newcastle\, BT33 0QB\, Northern Ireland
GEO:54.2116658;-5.995163600000069
X-APPLE-STRUCTURED-LOCATION;VALUE=URI;X-ADDRESS=Trassey Road\, Newcastle\, 
 BT33 0QB\, Northern Ireland;X-APPLE-RADIUS=100;X-TITLE=Meelmore:geo:54.211
 6658,-5.995163600000069
END:VEVENT
BEGIN:VTIMEZONE
TZID:Europe/London
X-LIC-LOCATION:Europe/London
BEGIN:DAYLIGHT
DTSTART:20190331T020000
TZOFFSETFROM:+0000
TZOFFSETTO:+0100
TZNAME:BST
END:DAYLIGHT
END:VTIMEZONE
END:VCALENDAR