BEGIN:VCALENDAR
VERSION:2.0
PRODID:-//wp-events-plugin.com//6.6.4.4//EN
TZID:Europe/London
X-WR-TIMEZONE:Europe/London
BEGIN:VEVENT
UID:0-260@lvo.org.uk
DTSTART;TZID=Europe/London;VALUE=DATE:20190419
DTEND;TZID=Europe/London;VALUE=DATE:20190423
DTSTAMP:20190119T221342Z
URL:https://lvo.org.uk/allfixtures/ni-colour-series-1-2/
SUMMARY:JK 2019
DESCRIPTION:PLEASE NOTE :  This event is not run by Lagan Valley Orienteer
 s\, please check the event website on the link below\, to confirm all date
 s and details.  \n\nIf you find any error with this LVO page please leave
  a comment below.\n\nhttp://thejk.org.uk
CATEGORIES:Colours of Spring,NI Colour Series,NI Fixtures
END:VEVENT
BEGIN:VTIMEZONE
TZID:Europe/London
X-LIC-LOCATION:Europe/London
BEGIN:DAYLIGHT
DTSTART:20190331T020000
TZOFFSETFROM:+0000
TZOFFSETTO:+0100
TZNAME:BST
END:DAYLIGHT
END:VTIMEZONE
END:VCALENDAR