BEGIN:VCALENDAR
VERSION:2.0
PRODID:-//wp-events-plugin.com//6.6.4.4//EN
TZID:Europe/London
X-WR-TIMEZONE:Europe/London
BEGIN:VEVENT
UID:0-368@lvo.org.uk
DTSTART;TZID=Europe/London:20191013T140000
DTEND;TZID=Europe/London:20191013T140000
DTSTAMP:20191019T220018Z
URL:https://lvo.org.uk/allfixtures/mea-find-your-way-ballymena-come-and-tr
 y-orienteering/
SUMMARY:Ballymena Try Orienteering
DESCRIPTION:Not able to get down to Donard Forest but don't want to miss ou
 t on all the orienteering fun this Sunday!\nMid and East Antrim Council al
 ong with Lagan Valley Orienteers invite you to come and try out Sporteerin
 g in Ballymena!\n\n⏰ Meeting at Harryville Community Centre\, 73 Brooke 
 Park\, Ballymena BT42 3AU at 2pm\, Sunday 13th October.\n\n📱 Bring alon
 g a fully charged mobile phone with the Sporteering app downloaded\n\n🏃
 ‍♀️🚶‍♂️ Suitable for runners and walkers\, all ages and abi
 lities - collect as many controls in 1 hour\n\n💵 This is a Come and try
  it activity - so free of charge
CATEGORIES:LVO Fixtures
LOCATION:Harryville Community Centre\, Brooke Park\, Ballymena\, County Ant
 rim\, BT42 3BL\, Northern Ireland
X-APPLE-STRUCTURED-LOCATION;VALUE=URI;X-ADDRESS=Brooke Park\, Ballymena\, C
 ounty Antrim\, BT42 3BL\, Northern Ireland;X-APPLE-RADIUS=100;X-TITLE=Harr
 yville Community Centre:geo:0,0
END:VEVENT
BEGIN:VTIMEZONE
TZID:Europe/London
X-LIC-LOCATION:Europe/London
BEGIN:DAYLIGHT
DTSTART:20190331T020000
TZOFFSETFROM:+0000
TZOFFSETTO:+0100
TZNAME:BST
END:DAYLIGHT
END:VTIMEZONE
END:VCALENDAR