BEGIN:VCALENDAR
VERSION:2.0
PRODID:-//wp-events-plugin.com//6.6.4.4//EN
TZID:Europe/London
X-WR-TIMEZONE:Europe/London
BEGIN:VEVENT
UID:0-369@lvo.org.uk
DTSTART;TZID=Europe/London:20191027T140000
DTEND;TZID=Europe/London:20191027T140000
DTSTAMP:20191019T215937Z
URL:https://lvo.org.uk/allfixtures/mea-find-your-way-ballymena-come-and-tr
 y-orienteering-2/
SUMMARY:Ballymena Try Orienteering
DESCRIPTION:
CATEGORIES:LVO Fixtures
LOCATION:Ballymena Peoples Park\, Doury Road\, Ballymena\, County Antrim\, 
 BT43 6JA\, Northern Ireland
X-APPLE-STRUCTURED-LOCATION;VALUE=URI;X-ADDRESS=Doury Road\, Ballymena\, Co
 unty Antrim\, BT43 6JA\, Northern Ireland;X-APPLE-RADIUS=100;X-TITLE=Bally
 mena Peoples Park:geo:0,0
END:VEVENT
BEGIN:VTIMEZONE
TZID:Europe/London
X-LIC-LOCATION:Europe/London
BEGIN:STANDARD
DTSTART:20191027T010000
TZOFFSETFROM:+0100
TZOFFSETTO:+0000
TZNAME:GMT
END:STANDARD
END:VTIMEZONE
END:VCALENDAR