BEGIN:VCALENDAR
VERSION:2.0
PRODID:-//wp-events-plugin.com//6.6.4.4//EN
TZID:Europe/London
X-WR-TIMEZONE:Europe/London
BEGIN:VEVENT
UID:0-547@lvo.org.uk
DTSTART;TZID=Europe/London:20230212T140000
DTEND;TZID=Europe/London:20230212T150000
DTSTAMP:20230225T095057Z
URL:https://lvo.org.uk/allfixtures/lvo-score-champs-belfast-castle/
SUMMARY:LVO Score Champs - Belfast Castle
DESCRIPTION:The club Score Championship is to be held at Belfast Castle and
  the lower slopes of Cavehill.\n\nCourse Info\n\nIt will be a 45min course
 \, and there will be a separate course for Juniors - Under 16s (M/W 10\, 1
 2 and 14) will have a reduced map.\n\nScore events do not have a fixed cou
 rse but a fixed time to collect as many controls as you possibly can\, cho
 osing your own route within the time limit.\n\nThere is a 'mass' start - e
 veryone starts at the same time and so\, in theory\, should all finish tog
 ether 45 minutes later - so it is a fun\, social event.  The start will s
 till be a punch start\, and there will be a punch finish.\n\nStart briefin
 g will be at 1:50pm at the start.\n\nCar park will be next to the Adventur
 ous Playground (beyond the Castle)\, with the start nearby up the hill.\n\
 nClothing\n\nIf the weather is poor it may be mandatory to wear a rain pro
 of jacket.\n\nAll the usual recommended kit - full body cover\, whistle\, 
 compass\, plus a watch to keep an eye on your timing. Every minute (or par
 t of a minute) late will have a 10 point deduction.\n\nShoes with good gri
 p are recommended due to the steep slippery slopes and leaf accumulations.
 \n\nCompetitive or Non-Competitive?\n\nEveryone is welcome to attend inclu
 ding non-members and newcomers. Newcomers please say hello to someone at r
 egistration\, there will be someone at hand to talk you though things and 
 give advice.\n\nYou can go round as a pair/group but to be classified as c
 ompetitive you need to run individually. You also need to be a current mem
 ber of LVO. This is the first competitive event of the year\, so members\,
  make sure you have renewed your membership.\n\nEntries and cost\n\nMember
 s: Senior £8\, Junior £4\, Max charge for family (2 adults + n children\
 , each with own map) £20.\n\nNon-members: Senior £10\, Junior £5\, Max 
 charge for family (2 adults + n children\, each with own map) £25.\n\nFam
 ilies or groups wishing to go round together sharing a single map will onl
 y be charged for one entry. e.g. two junior members running round together
  = £4. A family of two adults and a child (non-members) = £10.\n\nCost i
 ncludes map and SI dibber (electronic timing) hire. Note: lost dibbers are
  charged at replacement cost £30. \n\n\n\n&nbsp\;\n\nMembership\n\nGet A
 nnual Membership today and enter at the Member rate!\n\nPlease note: Non-m
 embers who compete in more than three events are not covered by our public
  liability insurance. \n\n&nbsp\;\n\nOther\n\nToilets in the Castle\n\nDo
 gs allowed\n\nThere will be plenty of other users around\, including mount
 ain bikers.  We will advertise that there are 'runners' around\, but plea
 se be careful\, especially on the inclines and smaller paths.
CATEGORIES:Championships
LOCATION:Belfast Castle\, Antrim Road\, Belfast\, BT15 5GR\, Northern Irela
 nd
GEO:54.6427347647557;-5.942080125439588
X-APPLE-STRUCTURED-LOCATION;VALUE=URI;X-ADDRESS=Antrim Road\, Belfast\, BT1
 5 5GR\, Northern Ireland;X-APPLE-RADIUS=100;X-TITLE=Belfast Castle:geo:54.
 6427347647557,-5.942080125439588
END:VEVENT
BEGIN:VTIMEZONE
TZID:Europe/London
X-LIC-LOCATION:Europe/London
BEGIN:STANDARD
DTSTART:20221030T010000
TZOFFSETFROM:+0100
TZOFFSETTO:+0000
TZNAME:GMT
END:STANDARD
END:VTIMEZONE
END:VCALENDAR