BEGIN:VCALENDAR
VERSION:2.0
PRODID:-//wp-events-plugin.com//6.6.4.4//EN
TZID:Europe/London
X-WR-TIMEZONE:Europe/London
BEGIN:VEVENT
UID:0-344@lvo.org.uk
DTSTART;TZID=Europe/London:20191013T123000
DTEND;TZID=Europe/London:20191013T123000
DTSTAMP:20191016T191047Z
URL:https://lvo.org.uk/allfixtures/lvo-club-score-event/
SUMMARY:LVO Club Score Event
DESCRIPTION:An entry on the day Club Score event will be held in conjunctio
 n with the JHI Relay event.\n\nA  great opportunity to get a run out on s
 ome nice technical terrain.\n\nCompetitors should park at Donard Park carp
 ark and walk up to Greenhill YMCA Centre in good time for a 12:30 mass sta
 rt.\n\nStart will be adjacent the relay arena within the Greenhill complex
 .\n\nDuration for the Score will be 45 minutes.
LOCATION:Donard Forest\, Donard Park\, Newcastle\, BT33 0HL\, Northern Irel
 and
GEO:54.2061229;-5.893984600000067
X-APPLE-STRUCTURED-LOCATION;VALUE=URI;X-ADDRESS=Donard Park\, Newcastle\, B
 T33 0HL\, Northern Ireland;X-APPLE-RADIUS=100;X-TITLE=Donard Forest:geo:54
 .2061229,-5.893984600000067
END:VEVENT
BEGIN:VTIMEZONE
TZID:Europe/London
X-LIC-LOCATION:Europe/London
BEGIN:DAYLIGHT
DTSTART:20190331T020000
TZOFFSETFROM:+0000
TZOFFSETTO:+0100
TZNAME:BST
END:DAYLIGHT
END:VTIMEZONE
END:VCALENDAR