BEGIN:VCALENDAR
VERSION:2.0
PRODID:-//wp-events-plugin.com//6.6.4.4//EN
TZID:Europe/London
X-WR-TIMEZONE:Europe/London
BEGIN:VEVENT
UID:0-746@lvo.org.uk
DTSTART;TZID=Europe/London:20241229T110000
DTEND;TZID=Europe/London:20241229T123000
DTSTAMP:20241204T133652Z
URL:https://lvo.org.uk/allfixtures/juniors-and-families-coaching-dec-24/
SUMMARY:Juniors and Families Coaching Dec 24
DESCRIPTION:\n\n\nDate\nSunday 29 December 2024\n\n\nVenue\n📍Tollymore F
 orest Park Main Carpark\n\n\nEvent Format\nWant your kids to be more activ
 e\, more confident\, and find friends to run about with in forests and up 
 mountains? Would like to learn a new outdoor sport that all the family can
  take part in?\n\nTaking place on the last Sunday of the month\, LVO invit
 es you to Running Wild\, a chance for like-minded families to learn about 
 orienteering together and find out about how to get involved in our exciti
 ng club and sport.\n\nSessions are for children in Primary 4 and above. If
  children are younger\, please get in contact with us (email chair@lvo.org
 .uk) to find out other exciting orienteering opportunities for them.\n\nAl
 l children must be accompanied by an adult for the duration of the coachin
 g\, up to a maximum of four children per adult. This is not a drop-off ser
 vice.\n\n\nEntry/Registration\nRegister here via this online form.\n\n\nRe
 gistration closes\nMidnight\, Tuesday 24 December 2024\n\n\nStart Times\nA
 rrive 10.45am for registration. Coaching takes place 11am to 12pm\, with a
  chance to catch up with coaches and friends over tea/coffee/squash until 
 12.30pm.\n\n\nPrice\n💰 Training is free for members of LVO\, NIOA and O
 rienteering Ireland.\n\n💰 Non-members are also welcome to attend any of
  our activities and events\, but there is a £3 fee per child for this act
 ivity\, up to a max of £10 per family. After attending three orienteering
  events\, people must join a club so they are insured.\n\nFrom 1 September
  to 31 December 2024\, new members pay £4 for juniors (up to 20 years old
 )\, £8 for young adults (up to £25)\, £10 for seniors and £20 for fami
 lies (2 seniors + 1 or more juniors). Sign-up HERE via the BOF website\, s
 electing LVO as your club.\n\n\nTerrain Summary\nTollymore forest is a gre
 at place to discover the sport of orienteering. It has a network of paths 
 and tracks to help navigate\, as well as runnable forest with a variety of
  features. The forest is popular with hikers\, runners\, dog walkers\, hor
 se riders and mountain bikers\, so take care and treat others with courtes
 y.\n\n\nPrevious Maps/Routegadget\nTollymore was last used for a club Autu
 mn Trophy in 2022. Routegadget can be found here: https://www.lvo.routegad
 get.co.uk/rg2/#480\n\n\nNotes/Courses\n👨‍👩‍👧‍👦 Groups wi
 ll be organised into children with the same level of technical ability\, e
 ach having a dedicated coach.\n\n\nKit requirements\n🧥👖 Full body co
 ver is mandatory. If the weather is cold or wet – a waterproof jacket wi
 ll be mandatory. As well as times of exercise there will be periods of coa
 ching when you will be stationary\, so layer up – bring along an extra j
 umper\, a hat and gloves to keep comfortable. There is likely to be a bag 
 drop off point with a coach present or close by. NOTE: the club or coach i
 s not responsible for the safe keeping of the kit\, it is dropped off at y
 our own risk\, so please leave any valuables in the car. All should carry 
 whistles.\n\n\nParking\n£5 at entrance\; free if you have annual pass (co
 st of £40).\n\n\n\nToilets\nBeside main carpark.\n\n\n
CATEGORIES:Juniors
LOCATION:Tollymore Forest Park\, Main Carpark\, Newcastle\, BT33 0PW\, Nort
 hern Ireland
GEO:54.22063546586094;-5.920328035534681
X-APPLE-STRUCTURED-LOCATION;VALUE=URI;X-ADDRESS=Main Carpark\, Newcastle\, 
 BT33 0PW\, Northern Ireland;X-APPLE-RADIUS=100;X-TITLE=Tollymore Forest Pa
 rk:geo:54.22063546586094,-5.920328035534681
END:VEVENT
BEGIN:VTIMEZONE
TZID:Europe/London
X-LIC-LOCATION:Europe/London
BEGIN:STANDARD
DTSTART:20241027T010000
TZOFFSETFROM:+0100
TZOFFSETTO:+0000
TZNAME:GMT
END:STANDARD
END:VTIMEZONE
END:VCALENDAR