BEGIN:VCALENDAR
VERSION:2.0
PRODID:-//wp-events-plugin.com//6.6.4.4//EN
TZID:Europe/London
X-WR-TIMEZONE:Europe/London
BEGIN:VEVENT
UID:0-281@lvo.org.uk
DTSTART;TZID=Europe/London:20191013T094500
DTEND;TZID=Europe/London:20191013T094500
DTSTAMP:20191019T220059Z
URL:https://lvo.org.uk/allfixtures/junior-home-internationals-relay/
SUMMARY:Ward JHI - Relays
DESCRIPTION:Welcome. Event bulletins are here.
CATEGORIES:International Fixtures,Juniors
LOCATION:Donard Forest\, Donard Park\, Newcastle\, BT33 0HL\, Northern Irel
 and
GEO:54.2061229;-5.893984600000067
X-APPLE-STRUCTURED-LOCATION;VALUE=URI;X-ADDRESS=Donard Park\, Newcastle\, B
 T33 0HL\, Northern Ireland;X-APPLE-RADIUS=100;X-TITLE=Donard Forest:geo:54
 .2061229,-5.893984600000067
END:VEVENT
BEGIN:VTIMEZONE
TZID:Europe/London
X-LIC-LOCATION:Europe/London
BEGIN:DAYLIGHT
DTSTART:20190331T020000
TZOFFSETFROM:+0000
TZOFFSETTO:+0100
TZNAME:BST
END:DAYLIGHT
END:VTIMEZONE
END:VCALENDAR