BEGIN:VCALENDAR
VERSION:2.0
PRODID:-//wp-events-plugin.com//6.6.4.4//EN
TZID:Europe/London
X-WR-TIMEZONE:Europe/London
BEGIN:VEVENT
UID:0-277@lvo.org.uk
DTSTART;TZID=Europe/London;VALUE=DATE:20190506
DTEND;TZID=Europe/London;VALUE=DATE:20190507
DTSTAMP:20191116T202508Z
URL:https://lvo.org.uk/allfixtures/irish-champs-day-4-relay/
SUMMARY:IRISH CHAMPS - Day 4 Relay
DESCRIPTION:PLEASE NOTE :  This event is not run by Lagan Valley Orienteer
 s\, please check the IOC website or the organising club website (FERMO) on
  the links below\, to confirm all dates and details.  If you find any err
 or with this page please leave a comment below.\n\nhttps://fermoblog.wordp
 ress.com/\n\nhttps://ioc2019.com/classic/
CATEGORIES:Championships,IOC,Irish Fixtures,Not LVO
LOCATION:Parkanaur Forest\, Old Ballygawley Road\, Dungannon\, BT70 3AA\, N
 orthern Ireland
GEO:54.496505;-6.862907
X-APPLE-STRUCTURED-LOCATION;VALUE=URI;X-ADDRESS=Old Ballygawley Road\, Dung
 annon\, BT70 3AA\, Northern Ireland;X-APPLE-RADIUS=100;X-TITLE=Parkanaur F
 orest:geo:54.496505,-6.862907
END:VEVENT
BEGIN:VTIMEZONE
TZID:Europe/London
X-LIC-LOCATION:Europe/London
BEGIN:DAYLIGHT
DTSTART:20190331T020000
TZOFFSETFROM:+0000
TZOFFSETTO:+0100
TZNAME:BST
END:DAYLIGHT
END:VTIMEZONE
END:VCALENDAR