BEGIN:VCALENDAR
VERSION:2.0
PRODID:-//wp-events-plugin.com//6.6.4.4//EN
TZID:Europe/London
X-WR-TIMEZONE:Europe/London
BEGIN:VEVENT
UID:0-275@lvo.org.uk
DTSTART;TZID=Europe/London;VALUE=DATE:20190504
DTEND;TZID=Europe/London;VALUE=DATE:20190505
DTSTAMP:20191116T202523Z
URL:https://lvo.org.uk/allfixtures/irish-champs-day-2-middle/
SUMMARY:IRISH CHAMPS - Day 2 Middle
DESCRIPTION:PLEASE NOTE :  This event is not run by Lagan Valley Orienteer
 s\, please check the IOC website or the organising club website (FERMO) on
  the links below\, to confirm all dates and details.  If you find any err
 or with this page please leave a comment below.\n\nhttps://fermoblog.wordp
 ress.com/\n\nhttps://ioc2019.com/middle-distance/
CATEGORIES:Championships,IOC,Irish Fixtures,Not LVO
END:VEVENT
BEGIN:VTIMEZONE
TZID:Europe/London
X-LIC-LOCATION:Europe/London
BEGIN:DAYLIGHT
DTSTART:20190331T020000
TZOFFSETFROM:+0000
TZOFFSETTO:+0100
TZNAME:BST
END:DAYLIGHT
END:VTIMEZONE
END:VCALENDAR