BEGIN:VCALENDAR
VERSION:2.0
PRODID:-//wp-events-plugin.com//6.6.4.4//EN
TZID:Europe/London
X-WR-TIMEZONE:Europe/London
BEGIN:VEVENT
UID:0-274@lvo.org.uk
DTSTART;TZID=Europe/London;VALUE=DATE:20190503
DTEND;TZID=Europe/London;VALUE=DATE:20190504
DTSTAMP:20191116T202545Z
URL:https://lvo.org.uk/allfixtures/irish-champs-day-1-sprint/
SUMMARY:IRISH CHAMPS Day 1 Sprint
DESCRIPTION:PLEASE NOTE :  This event is not run by Lagan Valley Orienteer
 s\, please check the IOC website or the organising club website (FERMO) on
  the links below\, to confirm all dates and details.  If you find any err
 or with this page please leave a comment below.\n\nhttps://fermoblog.wordp
 ress.com/\n\nhttps://ioc2019.com/sprint-competition/
CATEGORIES:Championships,IOC,Irish Fixtures,Not LVO
LOCATION:Florence Court Demesne\, Enniskillen\, Mullan Road\, Florence Cour
 t\, BT92 1DB\, Northern Ireland
GEO:54.25773849999999;-7.71063730000003
X-APPLE-STRUCTURED-LOCATION;VALUE=URI;X-ADDRESS=Mullan Road\, Florence Cour
 t\, BT92 1DB\, Northern Ireland;X-APPLE-RADIUS=100;X-TITLE=Florence Court 
 Demesne\, Enniskillen:geo:54.25773849999999,-7.71063730000003
END:VEVENT
BEGIN:VTIMEZONE
TZID:Europe/London
X-LIC-LOCATION:Europe/London
BEGIN:DAYLIGHT
DTSTART:20190331T020000
TZOFFSETFROM:+0000
TZOFFSETTO:+0100
TZNAME:BST
END:DAYLIGHT
END:VTIMEZONE
END:VCALENDAR