BEGIN:VCALENDAR
VERSION:2.0
PRODID:-//wp-events-plugin.com//6.6.4.4//EN
TZID:Europe/London
X-WR-TIMEZONE:Europe/London
BEGIN:VEVENT
UID:0-252@lvo.org.uk
DTSTART;TZID=Europe/London:20190127T140000
DTEND;TZID=Europe/London:20190127T140000
DTSTAMP:20190117T202637Z
URL:https://lvo.org.uk/allfixtures/club-score-training-4/
SUMMARY:Club Score Training 4
DESCRIPTION:Score event at Antrim Castle Gardens. Registration is close to 
 the Clotworthy House car park.\n\n	Registration from 13:30\n	Mass start at
  14:00\n	45 minute time limit\n\n\n£2 LVO member £4 non-member (per map)
 .\n\nAll welcome.
CATEGORIES:LVO Fixtures,Training
LOCATION:Antrim Castle Gardens\, Randalstown Road\, Antrim\, County Antrim\
 , BT41 4LH\, Northern Ireland
GEO:54.7216852;-6.231797400000005
X-APPLE-STRUCTURED-LOCATION;VALUE=URI;X-ADDRESS=Randalstown Road\, Antrim\,
  County Antrim\, BT41 4LH\, Northern Ireland;X-APPLE-RADIUS=100;X-TITLE=An
 trim Castle Gardens:geo:54.7216852,-6.231797400000005
END:VEVENT
BEGIN:VTIMEZONE
TZID:Europe/London
X-LIC-LOCATION:Europe/London
BEGIN:STANDARD
DTSTART:20181028T010000
TZOFFSETFROM:+0100
TZOFFSETTO:+0000
TZNAME:GMT
END:STANDARD
END:VTIMEZONE
END:VCALENDAR