BEGIN:VCALENDAR
VERSION:2.0
PRODID:-//wp-events-plugin.com//6.6.4.4//EN
TZID:Europe/London
X-WR-TIMEZONE:Europe/London
BEGIN:VEVENT
UID:0-253@lvo.org.uk
DTSTART;TZID=Europe/London:20190120T140000
DTEND;TZID=Europe/London:20190120T140000
DTSTAMP:20190117T200706Z
URL:https://lvo.org.uk/allfixtures/club-score-training-3-2/
SUMMARY:Club Score Training 3
DESCRIPTION:Score event at Palace Demesne\, Armagh. Car parking in the main
  car park in front of the Palace building.\n\n	Registration from 13:30\n	M
 ass start at 14:00\n	45 minute time limit\n\n£2 LVO member £4 non-member
  (per map).\n\nAll welcome. If you need a bit of help to get started\, com
 e early!\n\n
CATEGORIES:LVO Fixtures,Training
LOCATION:Armagh\, Palace Demesne\, The Palace\, Armagh\, BT60 4EL\, Norther
 n Ireland
GEO:54.340939;-6.652769
X-APPLE-STRUCTURED-LOCATION;VALUE=URI;X-ADDRESS=The Palace\, Armagh\, BT60 
 4EL\, Northern Ireland;X-APPLE-RADIUS=100;X-TITLE=Armagh\, Palace Demesne:
 geo:54.340939,-6.652769
END:VEVENT
BEGIN:VTIMEZONE
TZID:Europe/London
X-LIC-LOCATION:Europe/London
BEGIN:STANDARD
DTSTART:20181028T010000
TZOFFSETFROM:+0100
TZOFFSETTO:+0000
TZNAME:GMT
END:STANDARD
END:VTIMEZONE
END:VCALENDAR