BEGIN:VCALENDAR
VERSION:2.0
PRODID:-//wp-events-plugin.com//6.6.4.4//EN
TZID:Europe/London
X-WR-TIMEZONE:Europe/London
BEGIN:VEVENT
UID:0-256@lvo.org.uk
DTSTART;TZID=Europe/London:20190106T140000
DTEND;TZID=Europe/London:20190106T140000
DTSTAMP:20190104T204629Z
URL:https://lvo.org.uk/allfixtures/club-score-training-2-3/
SUMMARY:Club Score Training 1
DESCRIPTION:45 minute score event with variations to keep the fast people a
 mused.\n\n 	Registration from 13:30\n 	Mass start at 14:00\n\nGet the new 
 year off to a good orienteering start! Meet at Bangor Castle Aurora car pa
 rk.
CATEGORIES:LVO Fixtures,Training
LOCATION:Bangor Castle\, Aurora\, Bangor Aurora Leisure Complex\, Bangor\, 
 BT20 4TH\, Northern Ireland
GEO:54.6523729;-5.663732399999958
X-APPLE-STRUCTURED-LOCATION;VALUE=URI;X-ADDRESS=Bangor Aurora Leisure Compl
 ex\, Bangor\, BT20 4TH\, Northern Ireland;X-APPLE-RADIUS=100;X-TITLE=Bango
 r Castle\, Aurora:geo:54.6523729,-5.663732399999958
END:VEVENT
BEGIN:VTIMEZONE
TZID:Europe/London
X-LIC-LOCATION:Europe/London
BEGIN:STANDARD
DTSTART:20181028T010000
TZOFFSETFROM:+0100
TZOFFSETTO:+0000
TZNAME:GMT
END:STANDARD
END:VTIMEZONE
END:VCALENDAR