BEGIN:VCALENDAR
VERSION:2.0
PRODID:-//wp-events-plugin.com//6.6.4.4//EN
TZID:Europe/London
X-WR-TIMEZONE:Europe/London
BEGIN:VEVENT
UID:0-258@lvo.org.uk
DTSTART;TZID=Europe/London:20190203T133000
DTEND;TZID=Europe/London:20190203T150000
DTSTAMP:20190203T212919Z
URL:https://lvo.org.uk/allfixtures/club-score-champs-3/
SUMMARY:CLUB SCORE CHAMPS  &amp\;  Club AGM
DESCRIPTION:The LVO Score Championships will be next Sunday\, 3rd February\
 , at Belvoir Activity Centre\, Belvoir Dr\, Belfast BT8 7DT. Note this is
  different to the wee map below ie it's NOT the main car park.\n\nThe form
 at will be just like the recent Score training events\, though the terrain
  in Belvoir Forest is a bit more physical than running round a park. Wear 
 leg cover and shoes with a good grip.\nRegistration will be available from
  13:30 for punching starts from 13:45. Both Seniors and Juniors will have 
 45 minutes to accumulate as many points as possible. Speed merchants shoul
 d be aware that Planner Fred is determined that nobody will get all the co
 ntrols\, so route choice will be important.\n\nAfter the event you can hav
 e a free shower in the Centre\, followed at 15:00 by soup and sandwiches\,
  kindly organised by the Gamble family on behalf of the Juniors. There wil
 l be a running display of photos from all the club activities over the yea
 r\, so come along\, have some lunch and spot you and your friends enjoying
  orienteering. We would especially welcome people from our three hubs (Tol
 lymore Orienteers\, Orchard County Orienteers and Urban-O Explorers)  –
  we hope you will come along and meet the wider orienteering community.\nN
 ewbies are very welcome too :)\nWe will run the AGM as you munch on your s
 andwiches\, with a firm cut-off time of 16:45. Chairperson Steph has some 
 interesting ideas to present on club activities which will be worth hearin
 g. Please do come\, have your say and express your opinions.\n\nAlso\, don
 ’t forget to send me nominations for the Steve McGibbon Trophy\, which i
 s awarded to the person or group thought to have provided the most outstan
 ding contribution to the club’s affairs in the last year.  Email secret
 ary@lvo.org.uk\n\nWe look forward to seeing you next Sunday.
CATEGORIES:AGM,Championships,LVO Fixtures
LOCATION:Belvoir Forest Park\, Belvoir Activity Centre\, Belfast\, BT8 7DT\
 , Northern Ireland
GEO:54.552425;-5.932193699999971
X-APPLE-STRUCTURED-LOCATION;VALUE=URI;X-ADDRESS=Belvoir Activity Centre\, B
 elfast\, BT8 7DT\, Northern Ireland;X-APPLE-RADIUS=100;X-TITLE=Belvoir For
 est Park:geo:54.552425,-5.932193699999971
END:VEVENT
BEGIN:VTIMEZONE
TZID:Europe/London
X-LIC-LOCATION:Europe/London
BEGIN:STANDARD
DTSTART:20181028T010000
TZOFFSETFROM:+0100
TZOFFSETTO:+0000
TZNAME:GMT
END:STANDARD
END:VTIMEZONE
END:VCALENDAR