BEGIN:VCALENDAR
VERSION:2.0
PRODID:-//wp-events-plugin.com//6.6.4.4//EN
TZID:Europe/London
X-WR-TIMEZONE:Europe/London
BEGIN:VEVENT
UID:0-360@lvo.org.uk
DTSTART;TZID=Europe/London:20190925T190000
DTEND;TZID=Europe/London:20190925T190000
DTSTAMP:20190909T224230Z
URL:https://lvo.org.uk/allfixtures/club-night-running-training-21/
SUMMARY:Running Training
DESCRIPTION:Meet at Malone Rugby Club\, ready to depart at 7pm.  We'll jog
  together along the Connswater Greenway to Orangefield Park\, for some dri
 lls and games to warm up\, speedwork\, and a cool down jog back to the rug
 by club.\n\nThis is All Levels training.  You will find something to suit
  you\, no matter your ability &amp\; fitness levels\, plus plenty of time 
 to get to know your club mates.\n\nNote Malone RFC is off the Cregagh Road
  behind Iceland - nowhere near Malone House !!
CATEGORIES:LVO Fixtures,Training
LOCATION:Malone RFC\, 6 Gibson Park Ave\, Belfast\, BT6 9GL\, Northern Irel
 and
GEO:54.5829313;-5.895803999999998
X-APPLE-STRUCTURED-LOCATION;VALUE=URI;X-ADDRESS=6 Gibson Park Ave\, Belfast
 \, BT6 9GL\, Northern Ireland;X-APPLE-RADIUS=100;X-TITLE=Malone RFC:geo:54
 .5829313,-5.895803999999998
END:VEVENT
BEGIN:VTIMEZONE
TZID:Europe/London
X-LIC-LOCATION:Europe/London
BEGIN:DAYLIGHT
DTSTART:20190331T020000
TZOFFSETFROM:+0000
TZOFFSETTO:+0100
TZNAME:BST
END:DAYLIGHT
END:VTIMEZONE
END:VCALENDAR