BEGIN:VCALENDAR
VERSION:2.0
PRODID:-//wp-events-plugin.com//6.6.4.4//EN
TZID:Europe/London
X-WR-TIMEZONE:Europe/London
BEGIN:VEVENT
UID:0-664@lvo.org.uk
DTSTART;TZID=Europe/London:20250510T100000
DTEND;TZID=Europe/London:20250510T140000
DTSTAMP:20251026T125033Z
URL:https://lvo.org.uk/allfixtures/club-meet-may-25/
SUMMARY:Club Meet May 25
DESCRIPTION:\n\n\nDate\nSaturday 10 May 2025\n\n\nVenue\n📍Meelmore Mount
 ain\n\n\nEvent Format\nClub Meet\, Coaching and Social. A way to improve 
 your orienteering skills in a social way without the pressure of competiti
 on. Taking place every 2nd Saturday of the month (except July\, August and
  December)\, club coaches put on sessions for orienteers\, no matter your 
 age or level. Everyone is welcome!\n\n\nEntry/Registration\nRegister via t
 his ONLINE FORM.\n\n\nRegistration closes\nMidnight\, Tuesday 6 May 2025\n
 \n\nStart Times\nArrive 10am for registration. Coaching takes place 10.15a
 m to 12.15pm.\n\nControl gathering 12.15pm to 12.45pm. Social of shared pa
 cked lunch takes place afterwards 12.30pm to 2pm.\n\n\nPrice\n💰 Club Me
 ets are FREE for members of LVO\, NIOA and Orienteering Ireland as well as
  O-Play and TD1/2 Juniors.\n\nNon-members are also welcome to attend any o
 f our activities and events but there is a £5 fee per person for this act
 ivity. After attending three orienteering events\, people must join a club
  so they are insured.\n\nJoin our club (LVO) today to avail of free coachi
 ng and reduced event entry fees: https://www.britishorienteering.org.uk/j
 oin\n\n\nTerrain Summary\nMeelmore is open mountain side with few paths\, 
 many rock features and intricate contour details.\n\n\nPrevious Maps/Route
 gadget\nPrevious courses can be found here: https://www.lvo.routegadget.c
 o.uk/rg2/?#507\n\n\nNotes/Courses\n👨‍👩‍👧‍👦 Groups will b
 e organised into people with the same level of technical ability\, each ha
 ving a dedicated coach:\nO-Play - for children in P3 and under\, accompani
 ed by their parents.\n⚪🟡 Technical Difficulty (TD) 1 and 2 (White and
  Yellow) Easy courses with all controls mostly on linear features such as 
 paths\, walls and streams. Suitable for P4 children and above and adult ne
 wcomers who want a gentle introduction to orienteering.\n🟠 TD 3 (Orange
 ) Courses use basic use of a compass and route choice. Ideal for novice or
 ienteers or young juniors with experience (ideally aged 10 and above).\n
 🟢🔵🟤 TD4 and 5 (Lt Green\, Green\, Blue and Brown) Challenging nav
 igation with route choice and using more contour and point features suitab
 le for experienced juniors and adults.\n\n\nKit requirements\n🧥👖 Ful
 l body cover is mandatory. If the weather is cold or wet – a waterproof 
 jacket will be mandatory. As well as times of exercise there will be perio
 ds of coaching when you will be stationary\, so layer up – bring along a
  hat and gloves to keep comfortable. There is likely to be a bag drop off 
 point with a coach present or close by. NOTE: the club or coach is not res
 ponsible for the safe keeping of the kit\, it is dropped off at your own r
 isk\, so please leave any valuables in the car. All should carry whistles.
  Bring a compass if you use and have one. Some base plate and thumb compas
 ses will be available to borrow and try out. Dibbers are not required.\n\n
 \nParking\n🚗 Please park at Meelmore Lodge in the overflow carpark behi
 nd the main building\, beside the campsite. Pay for parking in the Lodge (
 £4\, cash or card).\n\n\n\nToilets\nToilets are located at the side of Me
 elmore Lodge.\n\n\n\n&nbsp\;
CATEGORIES:Training
LOCATION:Meelmore\, Trassey Road\, Newcastle\, BT33 0QB\, Northern Ireland
GEO:54.2116658;-5.995163600000069
X-APPLE-STRUCTURED-LOCATION;VALUE=URI;X-ADDRESS=Trassey Road\, Newcastle\, 
 BT33 0QB\, Northern Ireland;X-APPLE-RADIUS=100;X-TITLE=Meelmore:geo:54.211
 6658,-5.995163600000069
END:VEVENT
BEGIN:VTIMEZONE
TZID:Europe/London
X-LIC-LOCATION:Europe/London
BEGIN:DAYLIGHT
DTSTART:20250330T020000
TZOFFSETFROM:+0000
TZOFFSETTO:+0100
TZNAME:BST
END:DAYLIGHT
END:VTIMEZONE
END:VCALENDAR